BEGIN:VCALENDAR
VERSION:2.0
PRODID:-//Microsoft Corporation//Outlook 16.0 MIMEDIR//FR
CALSCALE:GREGORIAN
METHOD:PUBLISH
X-WR-TIMEZONE:Europe/Monaco
X-MS-OLK-FORCEINSPECTOROPEN:"TRUE"
BEGIN:VTIMEZONE
TZID:Europe/Monaco
BEGIN:STANDARD
DTSTART:20251026T010000
TZOFFSETTO:+0100
TZOFFSETFROM:+0200
RRULE:FREQ=YEARLY;BYMONTH=11;BYDAY=1SU
END:STANDARD
BEGIN:DAYLIGHT
DTSTART:20250330T010000
TZOFFSETTO:+0200
TZOFFSETFROM:+0100
RRULE:FREQ=YEARLY;BYMONTH=3;BYDAY=2SU
END:DAYLIGHT
END:VTIMEZONE
BEGIN:VEVENT
UID:4560-c80decff124b27aea949ec7fbe9e173a-principocket.com\n
DTSTART:20250329T180000
DTEND:20250329T180000
TRANSP:TRANSPARENT
IMAGE;VALUE=URI;DISPLAY=;FMTTYPE=image/png:https://app.monacoplatform.
 com/uploads/hq/hqFvkxMSp7.png
STATUS:CONFIRMED
SUMMARY:Volley-Ball - 2FB : Journée 19 : ASS SPORTIVE DE MONACO 🆚 
 A.S. DE L'UNION VOLLEY-BALL
DESCRIPTION:Samedi 29 mars 2025 à 18h - Stade des Moneghetti\n\n\n\n 
 https://www.principocket.com/fr/event/c80decff124b27aea949ec7fbe9e173a
 /volley-ball-2fb-journee-19-ass-sportive-de-monaco-a-s-de-l-union-voll
 ey-ball
LOCATION:Rue Jean Bouin\, Beausoleil\, France
URL:https://www.principocket.com/event/c80decff124b27aea949ec7fbe9e173
 a/4560
DTSTAMP:20260424T110633Z
CREATED:20250626T133929Z
LAST-MODIFIED:20250626T133929Z
END:VEVENT
END:VCALENDAR
