BEGIN:VCALENDAR
VERSION:2.0
PRODID:-//Microsoft Corporation//Outlook 16.0 MIMEDIR//FR
CALSCALE:GREGORIAN
METHOD:PUBLISH
X-WR-TIMEZONE:Europe/Monaco
X-MS-OLK-FORCEINSPECTOROPEN:"TRUE"
BEGIN:VTIMEZONE
TZID:Europe/Monaco
BEGIN:STANDARD
DTSTART:20251026T010000
TZOFFSETTO:+0100
TZOFFSETFROM:+0200
RRULE:FREQ=YEARLY;BYMONTH=11;BYDAY=1SU
END:STANDARD
BEGIN:DAYLIGHT
DTSTART:20250330T010000
TZOFFSETTO:+0200
TZOFFSETFROM:+0100
RRULE:FREQ=YEARLY;BYMONTH=3;BYDAY=2SU
END:DAYLIGHT
END:VTIMEZONE
BEGIN:VEVENT
UID:4559-6c2d7942b656769e24a785a8c15ee737-principocket.com\n
DTSTART:20250315T180000
DTEND:20250315T180000
TRANSP:TRANSPARENT
IMAGE;VALUE=URI;DISPLAY=;FMTTYPE=image/png:https://app.monacoplatform.
 com/uploads/hq/hqFvkxMSp7.png
STATUS:CONFIRMED
SUMMARY:Volley-Ball - 2FB : Journée 17 : ASS SPORTIVE DE MONACO 🆚 
 J.S.A. BORDEAUX
DESCRIPTION:Samedi 15 mars 2025 à 18h - Stade des Moneghetti\n\n\n\n 
 https://www.principocket.com/fr/event/6c2d7942b656769e24a785a8c15ee737
 /volley-ball-2fb-journee-17-ass-sportive-de-monaco-j-s-a-bordeaux
LOCATION:Rue Jean Bouin\, Beausoleil\, France
URL:https://www.principocket.com/event/6c2d7942b656769e24a785a8c15ee73
 7/4559
DTSTAMP:20260422T141959Z
CREATED:20250626T133929Z
LAST-MODIFIED:20250626T133929Z
END:VEVENT
END:VCALENDAR
