BEGIN:VCALENDAR
VERSION:2.0
PRODID:-//Microsoft Corporation//Outlook 16.0 MIMEDIR//FR
CALSCALE:GREGORIAN
METHOD:PUBLISH
X-WR-TIMEZONE:Europe/Monaco
X-MS-OLK-FORCEINSPECTOROPEN:"TRUE"
BEGIN:VTIMEZONE
TZID:Europe/Monaco
BEGIN:STANDARD
DTSTART:20241027T010000
TZOFFSETTO:+0100
TZOFFSETFROM:+0200
RRULE:FREQ=YEARLY;BYMONTH=11;BYDAY=1SU
END:STANDARD
BEGIN:DAYLIGHT
DTSTART:20240331T010000
TZOFFSETTO:+0200
TZOFFSETFROM:+0100
RRULE:FREQ=YEARLY;BYMONTH=3;BYDAY=2SU
END:DAYLIGHT
END:VTIMEZONE
BEGIN:VEVENT
UID:4155-0ee7e3daae693e34d566d7081e1eb8ff-principocket.com\n
DTSTART:20241221T200000
DTEND:20241221T200000
TRANSP:TRANSPARENT
IMAGE;VALUE=URI;DISPLAY=;FMTTYPE=image/png:https://app.monacoplatform.
 com/uploads/We/WeU7OO0ANQ.jpg
STATUS:CONFIRMED
SUMMARY:Opéra - "Oratorio de Noël"
DESCRIPTION:Samedi 21 décembre 2024\, à 20h\, Opéra Garnier Monte-C
 arlo\n\nOpéra de Monte-Carlo Saison 2024/25. Concert de chœur.\nDire
 ction musicale Gianluca Capuano.\nChef de chœur Stefano Visconti.\nOr
 atorio (cantates I à III).\nMusique de Johann Sebastian Bach (1685-17
 50).\nTextes tirés de l’Évangile selon Luc 2:6-20.\nTextes additio
 nnels de Christian Friedrich Henrici\, Johann Rist\, Paul Gerhardt\, M
 artin Luther et Christoph Runge.\nCréation : Leipzig\, églises Saint
 -Nicolas et Saint-Thomas\, du 25 au 27 décembre 1734.\n\n https://www
 .principocket.com/fr/event/0ee7e3daae693e34d566d7081e1eb8ff/opera-orat
 orio-de-noel
LOCATION:Place du Casino
URL:https://www.principocket.com/event/0ee7e3daae693e34d566d7081e1eb8f
 f/4155
DTSTAMP:20260422T202512Z
CREATED:20241218T135942Z
LAST-MODIFIED:20241218T135942Z
END:VEVENT
END:VCALENDAR
