BEGIN:VCALENDAR
VERSION:2.0
PRODID:-//Microsoft Corporation//Outlook 16.0 MIMEDIR//FR
CALSCALE:GREGORIAN
METHOD:PUBLISH
X-WR-TIMEZONE:Europe/Monaco
X-MS-OLK-FORCEINSPECTOROPEN:"TRUE"
BEGIN:VTIMEZONE
TZID:Europe/Monaco
BEGIN:STANDARD
DTSTART:20241027T010000
TZOFFSETTO:+0100
TZOFFSETFROM:+0200
RRULE:FREQ=YEARLY;BYMONTH=11;BYDAY=1SU
END:STANDARD
BEGIN:DAYLIGHT
DTSTART:20240331T010000
TZOFFSETTO:+0200
TZOFFSETFROM:+0100
RRULE:FREQ=YEARLY;BYMONTH=3;BYDAY=2SU
END:DAYLIGHT
END:VTIMEZONE
BEGIN:VEVENT
UID:4154-8740445667ee2c40c35c4c173281a6b4-principocket.com\n
DTSTART:20241220T200000
DTEND:20241220T200000
TRANSP:TRANSPARENT
IMAGE;VALUE=URI;DISPLAY=;FMTTYPE=image/png:https://app.monacoplatform.
 com/uploads/rP/rPlnTfuZif.jpg
STATUS:CONFIRMED
SUMMARY:Opéra - "L’elisir d'amore"
DESCRIPTION:Vendredi 20 décembre 2024\, à 20h\, Opéra Garnier Monte
 -Carlo\n\nOpéra de Monte-Carlo Saison 2024/25. Opéra.\nDirection mus
 icale Gianluca Capuano.\nMise en scène Adriano Sinivia.\nMelodramma g
 iocoso en deux actes.\nMusique de Gaetano Donizetti (1797-1848).\nLivr
 et de Felice Romani d’après Le Philtre d’Eugène Scribe.\nCréati
 on : Milan\, Teatro alla Canobbiana\, 12 mai 1832.\n\n https://www.pri
 ncipocket.com/fr/event/8740445667ee2c40c35c4c173281a6b4/opera-l-elisir
 -d-amore
LOCATION:Place du Casino
URL:https://www.principocket.com/event/8740445667ee2c40c35c4c173281a6b
 4/4154
DTSTAMP:20260422T184546Z
CREATED:20241218T135942Z
LAST-MODIFIED:20241218T135942Z
END:VEVENT
END:VCALENDAR
