BEGIN:VCALENDAR
VERSION:2.0
PRODID:-//Microsoft Corporation//Outlook 16.0 MIMEDIR//FR
CALSCALE:GREGORIAN
METHOD:PUBLISH
X-WR-TIMEZONE:Europe/Monaco
X-MS-OLK-FORCEINSPECTOROPEN:"TRUE"
BEGIN:VTIMEZONE
TZID:Europe/Monaco
BEGIN:STANDARD
DTSTART:20241027T010000
TZOFFSETTO:+0100
TZOFFSETFROM:+0200
RRULE:FREQ=YEARLY;BYMONTH=11;BYDAY=1SU
END:STANDARD
BEGIN:DAYLIGHT
DTSTART:20240331T010000
TZOFFSETTO:+0200
TZOFFSETFROM:+0100
RRULE:FREQ=YEARLY;BYMONTH=3;BYDAY=2SU
END:DAYLIGHT
END:VTIMEZONE
BEGIN:VEVENT
UID:4151-41b410e566d5a822e45b3994abf6f448-principocket.com\n
DTSTART:20241016T150000
DTEND:20241016T150000
TRANSP:TRANSPARENT
IMAGE;VALUE=URI;DISPLAY=;FMTTYPE=image/png:https://app.monacoplatform.
 com/uploads/fj/fjwNUrUZtA.jpg
STATUS:CONFIRMED
SUMMARY:OPMC - "Charlot pompier & Charlot policeman"
DESCRIPTION:Mercredi 16 octobre 2024\, à 15h\, Auditorium Rainier III
 \n\nSaison 24/25 de l'Orchestre Philarmonique de Monte-Carlo\, Sous La
  Présidence de S.A.R. La Princesse de Hanovre - "Charlot pompier & Ch
 arlot policeman"\, CINE-CONCERT FAMILLE. Paul LAY\, Piano. Au programm
 e : PROJECTION DES FILMS DE CHARLES CHAPLIN.\n\n https://www.principoc
 ket.com/fr/event/41b410e566d5a822e45b3994abf6f448/opmc-charlot-pompier
 -charlot-policeman
LOCATION:Boulevard Louis II
URL:https://www.principocket.com/event/41b410e566d5a822e45b3994abf6f44
 8/4151
DTSTAMP:20260422T141138Z
CREATED:20241009T134728Z
LAST-MODIFIED:20241009T134728Z
END:VEVENT
END:VCALENDAR
