BEGIN:VCALENDAR
VERSION:2.0
PRODID:-//Microsoft Corporation//Outlook 16.0 MIMEDIR//FR
CALSCALE:GREGORIAN
METHOD:PUBLISH
X-WR-TIMEZONE:Europe/Monaco
X-MS-OLK-FORCEINSPECTOROPEN:"TRUE"
BEGIN:VTIMEZONE
TZID:Europe/Monaco
BEGIN:STANDARD
DTSTART:20241027T010000
TZOFFSETTO:+0100
TZOFFSETFROM:+0200
RRULE:FREQ=YEARLY;BYMONTH=11;BYDAY=1SU
END:STANDARD
BEGIN:DAYLIGHT
DTSTART:20240331T010000
TZOFFSETTO:+0200
TZOFFSETFROM:+0100
RRULE:FREQ=YEARLY;BYMONTH=3;BYDAY=2SU
END:DAYLIGHT
END:VTIMEZONE
BEGIN:VEVENT
UID:3898-933de4a1f8cbb133682c4575fdfcef6d-principocket.com\n
DTSTART:20240425T193000
DTEND:20240428T000000
TRANSP:TRANSPARENT
IMAGE;VALUE=URI;DISPLAY=;FMTTYPE=image/png:https://app.monacoplatform.
 com/uploads/Pi/PiB5Rugmga.jpg
STATUS:CONFIRMED
SUMMARY:Evènement - "Soirée Jazz"
DESCRIPTION:Du jeudi 25 au samedi 27 avril 2024\, à 19h30\, Lobby Bar
  - Hôtel Métropole Monte-Carlo\n\nLes sessions musicales de l’Hôt
 el Métropole Monte-Carlo vous invitent à passer la soirée à dégus
 ter des cocktails sur mesure et à savourer un délicieux dîner\, le 
 tout au son de notre artiste invité qui interprétera son répertoire
  de jazz\, blues et soul. La voix suave de Jaffa vous transportera tou
 t droit à la Nouvelle-Orléans. Les soirées seront rythmées par les
  plus belles mélodies\, interprétées au piano par cet artiste de ta
 lent\, au Lobby Bar de l’hôtel.\n\n https://www.principocket.com/fr
 /event/933de4a1f8cbb133682c4575fdfcef6d/evenement-soiree-jazz
LOCATION:4\, avenue de la Madone
URL:https://www.principocket.com/event/933de4a1f8cbb133682c4575fdfcef6
 d/3898
DTSTAMP:20260420T122514Z
CREATED:20240426T114230Z
LAST-MODIFIED:20240426T114230Z
END:VEVENT
END:VCALENDAR
