BEGIN:VCALENDAR
VERSION:2.0
PRODID:-//Microsoft Corporation//Outlook 16.0 MIMEDIR//FR
CALSCALE:GREGORIAN
METHOD:PUBLISH
X-WR-TIMEZONE:Europe/Monaco
X-MS-OLK-FORCEINSPECTOROPEN:"TRUE"
BEGIN:VTIMEZONE
TZID:Europe/Monaco
BEGIN:STANDARD
DTSTART:20241027T010000
TZOFFSETTO:+0100
TZOFFSETFROM:+0200
RRULE:FREQ=YEARLY;BYMONTH=11;BYDAY=1SU
END:STANDARD
BEGIN:DAYLIGHT
DTSTART:20240331T010000
TZOFFSETTO:+0200
TZOFFSETFROM:+0100
RRULE:FREQ=YEARLY;BYMONTH=3;BYDAY=2SU
END:DAYLIGHT
END:VTIMEZONE
BEGIN:VEVENT
UID:3897-bf288fb1ce39eb0e5f2a56b6436c3e90-principocket.com\n
DTSTART:20240430T200000
DTEND:20240430T213000
TRANSP:TRANSPARENT
IMAGE;VALUE=URI;DISPLAY=;FMTTYPE=image/png:https://app.monacoplatform.
 com/uploads/sC/sCh6fJQFUI.jpeg
STATUS:CONFIRMED
SUMMARY:Spectacle "Reste avec nous - les pélerins d'Emmaüs"
DESCRIPTION:Mardi 30 avril 2024 de 20h à 21h30 - Théâtre des Varié
 tés\n\n\n\n https://www.principocket.com/fr/event/bf288fb1ce39eb0e5f2
 a56b6436c3e90/spectacle-reste-avec-nous-les-pelerins-d-emmaus
LOCATION:1\, boulevard Albert Ier
URL:https://www.principocket.com/event/bf288fb1ce39eb0e5f2a56b6436c3e9
 0/3897
DTSTAMP:20260420T121341Z
CREATED:20240430T154850Z
LAST-MODIFIED:20240430T154850Z
END:VEVENT
END:VCALENDAR
