BEGIN:VCALENDAR
VERSION:2.0
PRODID:-//Microsoft Corporation//Outlook 16.0 MIMEDIR//FR
CALSCALE:GREGORIAN
METHOD:PUBLISH
X-WR-TIMEZONE:Europe/Monaco
X-MS-OLK-FORCEINSPECTOROPEN:"TRUE"
BEGIN:VTIMEZONE
TZID:Europe/Monaco
BEGIN:STANDARD
DTSTART:20241027T010000
TZOFFSETTO:+0100
TZOFFSETFROM:+0200
RRULE:FREQ=YEARLY;BYMONTH=11;BYDAY=1SU
END:STANDARD
BEGIN:DAYLIGHT
DTSTART:20240331T010000
TZOFFSETTO:+0200
TZOFFSETFROM:+0100
RRULE:FREQ=YEARLY;BYMONTH=3;BYDAY=2SU
END:DAYLIGHT
END:VTIMEZONE
BEGIN:VEVENT
UID:3827-4f27130caf6ad53c067fb9cefff00d8b-principocket.com\n
DTSTART:20240803T200000
DTEND:20240803T200000
TRANSP:TRANSPARENT
IMAGE;VALUE=URI;DISPLAY=;FMTTYPE=image/png:https://app.monacoplatform.
 com/uploads/oi/oi3TfGT-jS.jpg
STATUS:CONFIRMED
SUMMARY:Concert - "Il Volo"
DESCRIPTION:Samedi 3 août 2024\, à 20h\, Salle des Etoiles\n\nMonte-
 Carlo Summer Festival 2024 - Il Volo\, le trio italien le plus célèb
 re dans le monde qui a conquis depuis plus de quinze ans le public de 
 tous les continents grâce aux voix extraordinaires de Piero Barone\, 
 Ignazio Boschetto et Gianluca Ginoble se produira à Monaco cet été.
  Une carrière couronnée de multiples succès à travers les zeniths 
 et arènes du monde entier\, treize albums à leur actif\, dont un aut
 re à venir dans les mois prochains\, composé de titres inédits.\n\n
  https://www.principocket.com/fr/event/4f27130caf6ad53c067fb9cefff00d8
 b/concert-il-volo
LOCATION:26\, avenue Princesse Grace
URL:https://www.principocket.com/event/4f27130caf6ad53c067fb9cefff00d8
 b/3827
DTSTAMP:20260420T170904Z
CREATED:20240726T141123Z
LAST-MODIFIED:20240726T141123Z
END:VEVENT
END:VCALENDAR
