BEGIN:VCALENDAR
VERSION:2.0
PRODID:-//Microsoft Corporation//Outlook 16.0 MIMEDIR//FR
CALSCALE:GREGORIAN
METHOD:PUBLISH
X-WR-TIMEZONE:Europe/Monaco
X-MS-OLK-FORCEINSPECTOROPEN:"TRUE"
BEGIN:VTIMEZONE
TZID:Europe/Monaco
BEGIN:STANDARD
DTSTART:20241027T010000
TZOFFSETTO:+0100
TZOFFSETFROM:+0200
RRULE:FREQ=YEARLY;BYMONTH=11;BYDAY=1SU
END:STANDARD
BEGIN:DAYLIGHT
DTSTART:20240331T010000
TZOFFSETTO:+0200
TZOFFSETFROM:+0100
RRULE:FREQ=YEARLY;BYMONTH=3;BYDAY=2SU
END:DAYLIGHT
END:VTIMEZONE
BEGIN:VEVENT
UID:3611-e304968b2812073d12200528968bd1f1-principocket.com\n
DTSTART:20240328T000000
DTEND:20240401T000000
TRANSP:TRANSPARENT
IMAGE;VALUE=URI;DISPLAY=;FMTTYPE=image/png:https://app.monacoplatform.
 com/uploads/c0/c0iDDtx2-1.jpg
STATUS:CONFIRMED
SUMMARY:Théâtre - "Algorithme"
DESCRIPTION:Du jeudi 28 au samedi 30\, 20h00\, et dimanche 31 mars 202
 4\, 16h30\, Théâtre des Muses\n\nC’est l’histoire de Max\, incar
 nation de ce qu’on nomme : « la trentaine épanouie ». Addicte aux
  nouvelles technologies\, elle est propulsée dans une expérience aux
  frontières du fantastique. Son histoire pourrait bien être la vôtr
 e... En tous cas\, celle de tous ceux qui ne savent plus vivre sans ê
 tre connectés en permanence aux écrans de toutes sortes. Combiné à
  la performance de la comédienne\, la prouesse technique crée l’ha
 llucination totale d’un rêve éveillé. L’ensemble tient l’audi
 ence en haleine de la première à la dernière seconde.\n\n https://w
 ww.principocket.com/fr/event/e304968b2812073d12200528968bd1f1/theatre-
 algorithme
LOCATION:45\, boulevard du Jardin Exotique
URL:https://www.principocket.com/event/e304968b2812073d12200528968bd1f
 1/3611
DTSTAMP:20260422T140140Z
CREATED:20240329T154131Z
LAST-MODIFIED:20240329T154131Z
X-MICROSOFT-CDO-ALLDAYEVENT:TRUE
END:VEVENT
END:VCALENDAR
