BEGIN:VCALENDAR
VERSION:2.0
PRODID:-//Microsoft Corporation//Outlook 16.0 MIMEDIR//FR
CALSCALE:GREGORIAN
METHOD:PUBLISH
X-WR-TIMEZONE:Europe/Monaco
X-MS-OLK-FORCEINSPECTOROPEN:"TRUE"
BEGIN:VTIMEZONE
TZID:Europe/Monaco
BEGIN:STANDARD
DTSTART:20241027T010000
TZOFFSETTO:+0100
TZOFFSETFROM:+0200
RRULE:FREQ=YEARLY;BYMONTH=11;BYDAY=1SU
END:STANDARD
BEGIN:DAYLIGHT
DTSTART:20240331T010000
TZOFFSETTO:+0200
TZOFFSETFROM:+0100
RRULE:FREQ=YEARLY;BYMONTH=3;BYDAY=2SU
END:DAYLIGHT
END:VTIMEZONE
BEGIN:VEVENT
UID:3610-94a9953cf8986d6d372f6f4748a1a0f6-principocket.com\n
DTSTART:20240323T000000
DTEND:20240325T000000
TRANSP:TRANSPARENT
IMAGE;VALUE=URI;DISPLAY=;FMTTYPE=image/png:https://app.monacoplatform.
 com/uploads/a2/a22cwZoVWC.jpg
STATUS:CONFIRMED
SUMMARY:Théâtre - "La Pirate qui a peur de l’eau"
DESCRIPTION:Samedi 23\, 14h30 et dimanche 24 mars 2024\, 14h15\, Thé
 âtre des Muses\n\nUne aventure de pirate pour petits et grands\, qui 
 parle de l’eau mais aussi de ses peurs. Océane est la grande fille 
 de Barbe le rouge\, un pirate sanguinaire qui règne sur les océans e
 t les mers. Dans l’obligation de prendre la succession de son père\
 , la voilà face à une difficulté de taille\, lui avouer son secret 
 : elle ne sait pas nager. En effet\, elle a peur de l’eau. Réussira
 -t-elle à se confier ? Heureusement\, Bako\, son compagnon ailé\, vi
 endra l’aider\, mais réussiront-ils ? À l’abordage !\n\n https:/
 /www.principocket.com/fr/event/94a9953cf8986d6d372f6f4748a1a0f6/theatr
 e-la-pirate-qui-a-peur-de-l-eau
LOCATION:45\, boulevard du Jardin Exotique
URL:https://www.principocket.com/event/94a9953cf8986d6d372f6f4748a1a0f
 6/3610
DTSTAMP:20260420T184651Z
CREATED:20240322T155310Z
LAST-MODIFIED:20240322T155310Z
X-MICROSOFT-CDO-ALLDAYEVENT:TRUE
END:VEVENT
END:VCALENDAR
