BEGIN:VCALENDAR
VERSION:2.0
PRODID:-//Microsoft Corporation//Outlook 16.0 MIMEDIR//FR
CALSCALE:GREGORIAN
METHOD:PUBLISH
X-WR-TIMEZONE:Europe/Monaco
X-MS-OLK-FORCEINSPECTOROPEN:"TRUE"
BEGIN:VTIMEZONE
TZID:Europe/Monaco
BEGIN:STANDARD
DTSTART:20241027T010000
TZOFFSETTO:+0100
TZOFFSETFROM:+0200
RRULE:FREQ=YEARLY;BYMONTH=11;BYDAY=1SU
END:STANDARD
BEGIN:DAYLIGHT
DTSTART:20240331T010000
TZOFFSETTO:+0200
TZOFFSETFROM:+0100
RRULE:FREQ=YEARLY;BYMONTH=3;BYDAY=2SU
END:DAYLIGHT
END:VTIMEZONE
BEGIN:VEVENT
UID:3609-c47cf8161b69a127fa64d6990a4ad811-principocket.com\n
DTSTART:20240321T000000
DTEND:20240325T000000
TRANSP:TRANSPARENT
IMAGE;VALUE=URI;DISPLAY=;FMTTYPE=image/png:https://app.monacoplatform.
 com/uploads/8J/8JBBoE1NLF.jpg
STATUS:CONFIRMED
SUMMARY:Théâtre - "Sur le fil"
DESCRIPTION:Jeudi 21 et vendredi 22\, 20h\, samedi 23\, 18h15 et 20h30
  et dimanche 24 mars 2024\, 16h30\, Théâtre des Muses\n\nA la suite 
 d’une banale erreur téléphonique\, ce qui n’était qu’un incid
 ent domestique se transforme en un merveilleux accident du destin : il
  aime le tempérament de son invisible interlocutrice\, elle est sédu
 ite par son humour et le charme de sa voix. C’est pourquoi ils vont 
 se rappeler\, s’espérer\, se fantasmer\, s’accrocher à cette rel
 ation téléphonique comme à une dernière chance d’un amour possib
 le. Mais la réalité a-t-elle sa place dans ce monde aseptisé où l
 ’on peut se rêver tel qu’on n’est pas ? Combien de temps peut-o
 n aimer quelqu’un qui ne s’incarne pas ou qui n’a pas de prise s
 ur votre image ?\n\n https://www.principocket.com/fr/event/c47cf8161b6
 9a127fa64d6990a4ad811/theatre-sur-le-fil
LOCATION:45\, boulevard du Jardin Exotique
URL:https://www.principocket.com/event/c47cf8161b69a127fa64d6990a4ad81
 1/3609
DTSTAMP:20260420T171023Z
CREATED:20240322T155310Z
LAST-MODIFIED:20240322T155310Z
X-MICROSOFT-CDO-ALLDAYEVENT:TRUE
END:VEVENT
END:VCALENDAR
