BEGIN:VCALENDAR
VERSION:2.0
PRODID:-//Microsoft Corporation//Outlook 16.0 MIMEDIR//FR
CALSCALE:GREGORIAN
METHOD:PUBLISH
X-WR-TIMEZONE:Europe/Monaco
X-MS-OLK-FORCEINSPECTOROPEN:"TRUE"
BEGIN:VTIMEZONE
TZID:Europe/Monaco
BEGIN:STANDARD
DTSTART:20241027T010000
TZOFFSETTO:+0100
TZOFFSETFROM:+0200
RRULE:FREQ=YEARLY;BYMONTH=11;BYDAY=1SU
END:STANDARD
BEGIN:DAYLIGHT
DTSTART:20240331T010000
TZOFFSETTO:+0200
TZOFFSETFROM:+0100
RRULE:FREQ=YEARLY;BYMONTH=3;BYDAY=2SU
END:DAYLIGHT
END:VTIMEZONE
BEGIN:VEVENT
UID:3608-2630b9f9bb07ff8420a3ff8886b2fd82-principocket.com\n
DTSTART:20240320T163000
DTEND:20240320T163000
TRANSP:TRANSPARENT
IMAGE;VALUE=URI;DISPLAY=;FMTTYPE=image/png:https://app.monacoplatform.
 com/uploads/cZ/cZjiaOe8pC.jpg
STATUS:CONFIRMED
SUMMARY:Théâtre - "Magie à la ferme"
DESCRIPTION:Mercredi 20 mars 2024\, à 16h30\, Théâtre des Muses\n\n
 Il est 8 heures quand le fermier se réveille en catastrophe. Hélas\,
  le coq n’a pas chanté ce matin ! Pire\, il a disparu ! Le fermier 
 et les animaux vont devoir mener l’enquête pour découvrir ce qui a
  bien pu lui arriver. Un spectacle plein d’humour\, de poésie et de
  chansons\, rythmé par les tours de magie.\n\n https://www.principock
 et.com/fr/event/2630b9f9bb07ff8420a3ff8886b2fd82/theatre-magie-a-la-fe
 rme
LOCATION:45\, boulevard du Jardin Exotique
URL:https://www.principocket.com/event/2630b9f9bb07ff8420a3ff8886b2fd8
 2/3608
DTSTAMP:20260420T154559Z
CREATED:20240320T125244Z
LAST-MODIFIED:20240320T125244Z
END:VEVENT
END:VCALENDAR
