BEGIN:VCALENDAR
VERSION:2.0
PRODID:-//Microsoft Corporation//Outlook 16.0 MIMEDIR//FR
CALSCALE:GREGORIAN
METHOD:PUBLISH
X-WR-TIMEZONE:Europe/Monaco
X-MS-OLK-FORCEINSPECTOROPEN:"TRUE"
BEGIN:VTIMEZONE
TZID:Europe/Monaco
BEGIN:STANDARD
DTSTART:20241027T010000
TZOFFSETTO:+0100
TZOFFSETFROM:+0200
RRULE:FREQ=YEARLY;BYMONTH=11;BYDAY=1SU
END:STANDARD
BEGIN:DAYLIGHT
DTSTART:20240331T010000
TZOFFSETTO:+0200
TZOFFSETFROM:+0100
RRULE:FREQ=YEARLY;BYMONTH=3;BYDAY=2SU
END:DAYLIGHT
END:VTIMEZONE
BEGIN:VEVENT
UID:3606-5b67dab9258809a948f73ea974fd2bcc-principocket.com\n
DTSTART:20240314T000000
DTEND:20240318T000000
TRANSP:TRANSPARENT
IMAGE;VALUE=URI;DISPLAY=;FMTTYPE=image/png:https://app.monacoplatform.
 com/uploads/3C/3CJqPmc45G.jpg
STATUS:CONFIRMED
SUMMARY:Théâtre - "Les Divalala"
DESCRIPTION:Du jeudi 14 au samedi 14\, 20h\, dimanche 17 mars 2024\, 1
 6h30\, Théâtre des Muses\n\nConquérantes\, espiègles et plus envo
 ûtantes que jamais\, Les Divalala marquent une nouvelle fois de leur 
 griffe unique les hits de Johnny\, Nougaro\, Soprano\, Oldelaf\, Bashu
 ng\, Elsa... Trois voix a cappella nous saisissent avec délicatesse e
 ntre humour\, légèreté et émotion. Avec elles\, le kitsch accède 
 à la distinction\, les airs cultes sont métamorphosés et les mélod
 ies plus confidentielles scintillent dans un écrin vocal sur mesure. 
 Le charme opère au cœur de ce spectacle musical kaléidoscopique qui
  démultiplie la thématique de l’amour à l’infini.\n\n https://w
 ww.principocket.com/fr/event/5b67dab9258809a948f73ea974fd2bcc/theatre-
 les-divalala
LOCATION:45\, boulevard du Jardin Exotique
URL:https://www.principocket.com/event/5b67dab9258809a948f73ea974fd2bc
 c/3606
DTSTAMP:20260420T140804Z
CREATED:20240315T154740Z
LAST-MODIFIED:20240315T154740Z
X-MICROSOFT-CDO-ALLDAYEVENT:TRUE
END:VEVENT
END:VCALENDAR
