BEGIN:VCALENDAR
VERSION:2.0
PRODID:-//Microsoft Corporation//Outlook 16.0 MIMEDIR//FR
CALSCALE:GREGORIAN
METHOD:PUBLISH
X-WR-TIMEZONE:Europe/Monaco
X-MS-OLK-FORCEINSPECTOROPEN:"TRUE"
BEGIN:VTIMEZONE
TZID:Europe/Monaco
BEGIN:STANDARD
DTSTART:20241027T010000
TZOFFSETTO:+0100
TZOFFSETFROM:+0200
RRULE:FREQ=YEARLY;BYMONTH=11;BYDAY=1SU
END:STANDARD
BEGIN:DAYLIGHT
DTSTART:20240331T010000
TZOFFSETTO:+0200
TZOFFSETFROM:+0100
RRULE:FREQ=YEARLY;BYMONTH=3;BYDAY=2SU
END:DAYLIGHT
END:VTIMEZONE
BEGIN:VEVENT
UID:3501-6d5ae3f6f65042a86e919c0e79440062-principocket.com\n
DTSTART:20240210T103000
DTEND:20240210T120000
TRANSP:TRANSPARENT
IMAGE;VALUE=URI;DISPLAY=;FMTTYPE=image/png:https://app.monacoplatform.
 com/uploads/49/495mIldxYA.png
STATUS:CONFIRMED
SUMMARY:"Comment gérer les écrans dans la famille... avec des enfant
 s de 0 à 10 ans" par le Docteur Corinne Roehrig
DESCRIPTION:Samedi 10 février 2024 de 10h30 à 12h - Médiathèque de
  Monaco - Bibliothèque Louis Notari\n\nUne question que bien des pare
 nts se posent à l'heure du tout numérique. Le docteur Roehrig propos
 era des pistes pour éviter que les habitudes ne soient engrammées. U
 n accueil des enfants sera assuré (livres\, coloriages\, jeux) pour v
 ous permettre de suivre attentivement tous ces bons conseils.\n\n http
 s://www.principocket.com/fr/event/6d5ae3f6f65042a86e919c0e79440062/com
 ment-gerer-les-ecrans-dans-la-famille-avec-des-enfants-de-0-a-10-ans-p
 ar-le-docteur-corinne-roehrig
LOCATION:5 Promenade Honoré II\, Monaco
URL:https://www.principocket.com/event/6d5ae3f6f65042a86e919c0e7944006
 2/3501
DTSTAMP:20260421T073820Z
CREATED:20240201T103411Z
LAST-MODIFIED:20240201T103411Z
END:VEVENT
END:VCALENDAR
