BEGIN:VCALENDAR
VERSION:2.0
PRODID:-//Microsoft Corporation//Outlook 16.0 MIMEDIR//FR
CALSCALE:GREGORIAN
METHOD:PUBLISH
X-WR-TIMEZONE:Europe/Monaco
X-MS-OLK-FORCEINSPECTOROPEN:"TRUE"
BEGIN:VTIMEZONE
TZID:Europe/Monaco
BEGIN:STANDARD
DTSTART:20241027T010000
TZOFFSETTO:+0100
TZOFFSETFROM:+0200
RRULE:FREQ=YEARLY;BYMONTH=11;BYDAY=1SU
END:STANDARD
BEGIN:DAYLIGHT
DTSTART:20240331T010000
TZOFFSETTO:+0200
TZOFFSETFROM:+0100
RRULE:FREQ=YEARLY;BYMONTH=3;BYDAY=2SU
END:DAYLIGHT
END:VTIMEZONE
BEGIN:VEVENT
UID:3498-aaaf1b9cc491e05cb52dcdcc6b7a49e4-principocket.com\n
DTSTART:20240705T000000
DTEND:20240708T000000
TRANSP:TRANSPARENT
IMAGE;VALUE=URI;DISPLAY=;FMTTYPE=image/png:https://app.monacoplatform.
 com/uploads/dS/dSBbioQsC-.jpg
STATUS:CONFIRMED
SUMMARY:Exposition - "artmonte-carlo"
DESCRIPTION:Du vendredi 5 au dimanche 7 juillet 2024\, Grimaldi Forum 
 Monaco\n\n8e édition du salon de l’art contemporain\, l’art moder
 ne et du design contemporain.\n\n https://www.principocket.com/fr/even
 t/aaaf1b9cc491e05cb52dcdcc6b7a49e4/exposition-artmonte-carlo
LOCATION:10\, avenue Princesse Grace
URL:https://www.principocket.com/event/aaaf1b9cc491e05cb52dcdcc6b7a49e
 4/3498
DTSTAMP:20260421T040408Z
CREATED:20240703T132108Z
LAST-MODIFIED:20240703T132108Z
X-MICROSOFT-CDO-ALLDAYEVENT:TRUE
END:VEVENT
END:VCALENDAR
