BEGIN:VCALENDAR
VERSION:2.0
PRODID:-//Microsoft Corporation//Outlook 16.0 MIMEDIR//FR
CALSCALE:GREGORIAN
METHOD:PUBLISH
X-WR-TIMEZONE:Europe/Monaco
X-MS-OLK-FORCEINSPECTOROPEN:"TRUE"
BEGIN:VTIMEZONE
TZID:Europe/Monaco
BEGIN:STANDARD
DTSTART:20241027T010000
TZOFFSETTO:+0100
TZOFFSETFROM:+0200
RRULE:FREQ=YEARLY;BYMONTH=11;BYDAY=1SU
END:STANDARD
BEGIN:DAYLIGHT
DTSTART:20240331T010000
TZOFFSETTO:+0200
TZOFFSETFROM:+0100
RRULE:FREQ=YEARLY;BYMONTH=3;BYDAY=2SU
END:DAYLIGHT
END:VTIMEZONE
BEGIN:VEVENT
UID:3496-c01ca483a131aefe9f8572890d047aa3-principocket.com\n
DTSTART:20240620T203000
DTEND:20240620T203000
TRANSP:TRANSPARENT
IMAGE;VALUE=URI;DISPLAY=;FMTTYPE=image/png:https://app.monacoplatform.
 com/uploads/LS/LSFlmbdVxq.jpg
STATUS:CONFIRMED
SUMMARY:Concert - "Thursday Live Session - Crimi"
DESCRIPTION:Jeudi 20 juin 2024\, à 20h30\, Grimaldi Forum Monaco\n\nC
 rimi est né en 2018 du désir de son leader Julien Lesuisse de redéc
 ouvrir son héritage sicilien\, de se réapproprier une culture et une
  langue que sa famille immigrée avait dû travestir. L'identité de C
 rimi mélange le sentiment des antiques chansons siciliennes avec celu
 i du raï algérien\, augmentée par les influences éthio-jazz\, funk
  et soul du guitariste Cyril Moulas\, du bassiste Brice Berrerd et du 
 batteur Bruno Duval. Le groupe trace une ligne visionnaire qui connect
 e des traditions d'époques et de lieux différents et les reconstruit
  pour le monde interculturel d'aujourd'hui.\n\n https://www.principock
 et.com/fr/event/c01ca483a131aefe9f8572890d047aa3/concert-thursday-live
 -session-crimi
LOCATION:10\, avenue Princesse Grace
URL:https://www.principocket.com/event/c01ca483a131aefe9f8572890d047aa
 3/3496
DTSTAMP:20260421T011721Z
CREATED:20240619T120801Z
LAST-MODIFIED:20240619T120801Z
END:VEVENT
END:VCALENDAR
