BEGIN:VCALENDAR
VERSION:2.0
PRODID:-//Microsoft Corporation//Outlook 16.0 MIMEDIR//FR
CALSCALE:GREGORIAN
METHOD:PUBLISH
X-WR-TIMEZONE:Europe/Monaco
X-MS-OLK-FORCEINSPECTOROPEN:"TRUE"
BEGIN:VTIMEZONE
TZID:Europe/Monaco
BEGIN:STANDARD
DTSTART:20241027T010000
TZOFFSETTO:+0100
TZOFFSETFROM:+0200
RRULE:FREQ=YEARLY;BYMONTH=11;BYDAY=1SU
END:STANDARD
BEGIN:DAYLIGHT
DTSTART:20240331T010000
TZOFFSETTO:+0200
TZOFFSETFROM:+0100
RRULE:FREQ=YEARLY;BYMONTH=3;BYDAY=2SU
END:DAYLIGHT
END:VTIMEZONE
BEGIN:VEVENT
UID:3458-92ac83b5d0a826a456bfa550c2ba07ae-principocket.com\n
DTSTART:20240706T100000
DTEND:20240902T200000
TRANSP:TRANSPARENT
IMAGE;VALUE=URI;DISPLAY=;FMTTYPE=image/png:https://app.monacoplatform.
 com/uploads/YP/YPinNNdiUZ.png
STATUS:CONFIRMED
SUMMARY:Exposition Turner, Le Sublime Héritage
DESCRIPTION:Du samedi 6 juillet au dimanche 1 septembre 2024\, de 10h 
 à 20h - Grimaldi Forum Monaco\n\nLe Grimaldi Forum Monaco dévoile\, 
 en collaboration avec la Tate\, l’exposition évènement « Turner\,
  le sublime héritage ».\n\n https://www.principocket.com/fr/event/92
 ac83b5d0a826a456bfa550c2ba07ae/exposition-turner-le-sublime-heritage
LOCATION:10\, avenue Princesse Grace
URL:https://www.principocket.com/event/92ac83b5d0a826a456bfa550c2ba07a
 e/3458
DTSTAMP:20260420T122433Z
CREATED:20240626T131345Z
LAST-MODIFIED:20240626T131345Z
END:VEVENT
END:VCALENDAR
