BEGIN:VCALENDAR
VERSION:2.0
PRODID:-//Microsoft Corporation//Outlook 16.0 MIMEDIR//FR
CALSCALE:GREGORIAN
METHOD:PUBLISH
X-WR-TIMEZONE:Europe/Monaco
X-MS-OLK-FORCEINSPECTOROPEN:"TRUE"
BEGIN:VTIMEZONE
TZID:Europe/Monaco
BEGIN:STANDARD
DTSTART:20231029T010000
TZOFFSETTO:+0100
TZOFFSETFROM:+0200
RRULE:FREQ=YEARLY;BYMONTH=11;BYDAY=1SU
END:STANDARD
BEGIN:DAYLIGHT
DTSTART:20230326T010000
TZOFFSETTO:+0200
TZOFFSETFROM:+0100
RRULE:FREQ=YEARLY;BYMONTH=3;BYDAY=2SU
END:DAYLIGHT
END:VTIMEZONE
BEGIN:VEVENT
UID:3142-098f6a64a59b78ba002eae6f8ed2e56c-principocket.com\n
DTSTART:20231115T173000
DTEND:20231115T190000
TRANSP:TRANSPARENT
IMAGE;VALUE=URI;DISPLAY=;FMTTYPE=image/png:https://app.monacoplatform.
 com/uploads/L5/L5PaDQQtbo.jpg
STATUS:CONFIRMED
SUMMARY:Atelier Philo - "Le corps enceint"
DESCRIPTION:Mercredi 15 novembre 2023\, de 17h30 à 19h\, Centre Hospi
 talier Princesse Grace\n\nAtelier philo au CHPG - Qu’est-ce que ça 
 signifie\, pour une femme\, de voir son corps se transformer pour accu
 eillir la vie ? Comment traverse-t-elle cette aventure qui la mènera 
 de l’altération de soi à la rencontre d’un autre en soi ? Saisie
  aux entrailles\, elle découvre les prouesses dont son corps est capa
 ble\, mais cette métamorphose peut aussi la déstabiliser… Qui peut
  se dire suffisamment armé pour prendre en charge la vie d’un nouve
 l être humain ? L’expérience\nsi commune de la maternité est à l
 a fois secrète et spectaculaire.\n\n https://www.principocket.com/fr/
 event/098f6a64a59b78ba002eae6f8ed2e56c/atelier-philo-le-corps-enceint
LOCATION:
URL:https://www.principocket.com/event/098f6a64a59b78ba002eae6f8ed2e56
 c/3142
DTSTAMP:20260420T122220Z
CREATED:20231115T130321Z
LAST-MODIFIED:20231115T130321Z
END:VEVENT
END:VCALENDAR
