BEGIN:VCALENDAR
VERSION:2.0
PRODID:-//Microsoft Corporation//Outlook 16.0 MIMEDIR//FR
CALSCALE:GREGORIAN
METHOD:PUBLISH
X-WR-TIMEZONE:Europe/Monaco
X-MS-OLK-FORCEINSPECTOROPEN:"TRUE"
BEGIN:VTIMEZONE
TZID:Europe/Monaco
BEGIN:STANDARD
DTSTART:20231029T010000
TZOFFSETTO:+0100
TZOFFSETFROM:+0200
RRULE:FREQ=YEARLY;BYMONTH=11;BYDAY=1SU
END:STANDARD
BEGIN:DAYLIGHT
DTSTART:20230326T010000
TZOFFSETTO:+0200
TZOFFSETFROM:+0100
RRULE:FREQ=YEARLY;BYMONTH=3;BYDAY=2SU
END:DAYLIGHT
END:VTIMEZONE
BEGIN:VEVENT
UID:2645-cb8f3de7f4d15fb2bb059bb64b35e01f-principocket.com\n
DTSTART:20231126T150000
DTEND:20231126T150000
TRANSP:TRANSPARENT
IMAGE;VALUE=URI;DISPLAY=;FMTTYPE=image/png:https://app.monacoplatform.
 com/uploads/o9/o9j1dW72i-.jpg
STATUS:CONFIRMED
SUMMARY:Opéra - "Don Carlo"
DESCRIPTION:Dimanche 26 novembre 2023\, à 15h\, Grimaldi Forum Monaco
 \n\nOpéra de Monte-Carlo Saison 2023/24. Direction musicale Massimo Z
 anetti. Mise en scène Davide Livermore. Grand opéra en cinq actes. M
 usique de Giuseppe Verdi (1813-1901). Livret de Camille Du Locle et Jo
 seph Méry\, d’après le poème tragique Don Carlos\, Infant von Spa
 nien (1787) de Friedrich von Schiller.\n\n https://www.principocket.co
 m/fr/event/cb8f3de7f4d15fb2bb059bb64b35e01f/opera-don-carlo
LOCATION:10\, avenue Princesse Grace
URL:https://www.principocket.com/event/cb8f3de7f4d15fb2bb059bb64b35e01
 f/2645
DTSTAMP:20260420T134133Z
CREATED:20231124T155557Z
LAST-MODIFIED:20231124T155557Z
END:VEVENT
END:VCALENDAR
