BEGIN:VCALENDAR
VERSION:2.0
PRODID:-//Microsoft Corporation//Outlook 16.0 MIMEDIR//FR
CALSCALE:GREGORIAN
METHOD:PUBLISH
X-WR-TIMEZONE:Europe/Monaco
X-MS-OLK-FORCEINSPECTOROPEN:"TRUE"
BEGIN:VTIMEZONE
TZID:Europe/Monaco
BEGIN:STANDARD
DTSTART:20231029T010000
TZOFFSETTO:+0100
TZOFFSETFROM:+0200
RRULE:FREQ=YEARLY;BYMONTH=11;BYDAY=1SU
END:STANDARD
BEGIN:DAYLIGHT
DTSTART:20230326T010000
TZOFFSETTO:+0200
TZOFFSETFROM:+0100
RRULE:FREQ=YEARLY;BYMONTH=3;BYDAY=2SU
END:DAYLIGHT
END:VTIMEZONE
BEGIN:VEVENT
UID:2644-cbd0d44d54d369bf4a5b3fe557199cdb-principocket.com\n
DTSTART:20231124T200000
DTEND:20231124T200000
TRANSP:TRANSPARENT
IMAGE;VALUE=URI;DISPLAY=;FMTTYPE=image/png:https://app.monacoplatform.
 com/uploads/eM/eMtDvtajag.jpg
STATUS:CONFIRMED
SUMMARY:Opéra - "Don Carlo"
DESCRIPTION:Vendredi 24 novembre 2023\, à 20h\, Grimaldi Forum Monaco
 \n\nOpéra de Monte-Carlo Saison 2023/24. Direction musicale Massimo Z
 anetti. Mise en scène Davide Livermore. Grand opéra en cinq actes. M
 usique de Giuseppe Verdi (1813-1901). Livret de Camille Du Locle et Jo
 seph Méry\, d’après le poème tragique Don Carlos\, Infant von Spa
 nien (1787) de Friedrich von Schiller.\n\n https://www.principocket.co
 m/fr/event/cbd0d44d54d369bf4a5b3fe557199cdb/opera-don-carlo
LOCATION:10\, avenue Princesse Grace
URL:https://www.principocket.com/event/cbd0d44d54d369bf4a5b3fe557199cd
 b/2644
DTSTAMP:20260422T104118Z
CREATED:20231124T155557Z
LAST-MODIFIED:20231124T155557Z
END:VEVENT
END:VCALENDAR
