BEGIN:VCALENDAR
VERSION:2.0
PRODID:-//Microsoft Corporation//Outlook 16.0 MIMEDIR//FR
CALSCALE:GREGORIAN
METHOD:PUBLISH
X-WR-TIMEZONE:Europe/Monaco
X-MS-OLK-FORCEINSPECTOROPEN:"TRUE"
BEGIN:VTIMEZONE
TZID:Europe/Monaco
BEGIN:STANDARD
DTSTART:20231029T010000
TZOFFSETTO:+0100
TZOFFSETFROM:+0200
RRULE:FREQ=YEARLY;BYMONTH=11;BYDAY=1SU
END:STANDARD
BEGIN:DAYLIGHT
DTSTART:20230326T010000
TZOFFSETTO:+0200
TZOFFSETFROM:+0100
RRULE:FREQ=YEARLY;BYMONTH=3;BYDAY=2SU
END:DAYLIGHT
END:VTIMEZONE
BEGIN:VEVENT
UID:2506-1de4f243785c66761b748a830b4b2b60-principocket.com\n
DTSTART:20230926T120000
DTEND:20230926T140000
TRANSP:TRANSPARENT
IMAGE;VALUE=URI;DISPLAY=;FMTTYPE=image/png:https://app.monacoplatform.
 com/uploads/Nj/Njt0jPUT6s.jpg
STATUS:CONFIRMED
SUMMARY:Concert - "Picnic music"
DESCRIPTION:Mardi 26 septembre 2023\, de 12h à 14h\, Médiathèque de
  Monaco - Sonothèque José Notari\n\nRendez-vous avec votre panier re
 pas à la Vidéothèque-Sonothèque tous les mardis de 12h à 14h\, po
 ur une pause déjeuner devant un concert.\n\n https://www.principocket
 .com/fr/event/1de4f243785c66761b748a830b4b2b60/concert-picnic-music
LOCATION:19\, boulevard Princesse Charlotte
URL:https://www.principocket.com/event/1de4f243785c66761b748a830b4b2b6
 0/2506
DTSTAMP:20260420T122159Z
CREATED:20230926T155710Z
LAST-MODIFIED:20230926T155710Z
END:VEVENT
END:VCALENDAR
