BEGIN:VCALENDAR
VERSION:2.0
PRODID:-//Microsoft Corporation//Outlook 16.0 MIMEDIR//FR
CALSCALE:GREGORIAN
METHOD:PUBLISH
X-WR-TIMEZONE:Europe/Monaco
X-MS-OLK-FORCEINSPECTOROPEN:"TRUE"
BEGIN:VTIMEZONE
TZID:Europe/Monaco
BEGIN:STANDARD
DTSTART:20231029T010000
TZOFFSETTO:+0100
TZOFFSETFROM:+0200
RRULE:FREQ=YEARLY;BYMONTH=11;BYDAY=1SU
END:STANDARD
BEGIN:DAYLIGHT
DTSTART:20230326T010000
TZOFFSETTO:+0200
TZOFFSETFROM:+0100
RRULE:FREQ=YEARLY;BYMONTH=3;BYDAY=2SU
END:DAYLIGHT
END:VTIMEZONE
BEGIN:VEVENT
UID:2504-361ff79c86282e8b514393c603354fa8-principocket.com\n
DTSTART:20230912T120000
DTEND:20230912T140000
TRANSP:TRANSPARENT
IMAGE;VALUE=URI;DISPLAY=;FMTTYPE=image/png:https://app.monacoplatform.
 com/uploads/C-/C-e1zALNAk.jpg
STATUS:CONFIRMED
SUMMARY:Concert - "Picnic music"
DESCRIPTION:Mardi 12 septembre 2023\, de 12h à 14h\, Médiathèque de
  Monaco - Sonothèque José Notari\n\nRendez-vous avec votre panier re
 pas à la Vidéothèque-Sonothèque tous les mardis de 12h à 14h\, po
 ur une pause déjeuner devant un concert.\n\n https://www.principocket
 .com/fr/event/361ff79c86282e8b514393c603354fa8/concert-picnic-music
LOCATION:19\, boulevard Princesse Charlotte
URL:https://www.principocket.com/event/361ff79c86282e8b514393c603354fa
 8/2504
DTSTAMP:20260420T140415Z
CREATED:20230912T123738Z
LAST-MODIFIED:20230912T123738Z
END:VEVENT
END:VCALENDAR
