BEGIN:VCALENDAR
VERSION:2.0
PRODID:-//Microsoft Corporation//Outlook 16.0 MIMEDIR//FR
CALSCALE:GREGORIAN
METHOD:PUBLISH
X-WR-TIMEZONE:Europe/Monaco
X-MS-OLK-FORCEINSPECTOROPEN:"TRUE"
BEGIN:VTIMEZONE
TZID:Europe/Monaco
BEGIN:STANDARD
DTSTART:20231029T010000
TZOFFSETTO:+0100
TZOFFSETFROM:+0200
RRULE:FREQ=YEARLY;BYMONTH=11;BYDAY=1SU
END:STANDARD
BEGIN:DAYLIGHT
DTSTART:20230326T010000
TZOFFSETTO:+0200
TZOFFSETFROM:+0100
RRULE:FREQ=YEARLY;BYMONTH=3;BYDAY=2SU
END:DAYLIGHT
END:VTIMEZONE
BEGIN:VEVENT
UID:2502-132b2882072548015b2e57112df368fb-principocket.com\n
DTSTART:20230831T140000
DTEND:20230831T140000
TRANSP:TRANSPARENT
IMAGE;VALUE=URI;DISPLAY=;FMTTYPE=image/png:https://app.monacoplatform.
 com/uploads/Hk/HkJGp5SfcF.jpg
STATUS:CONFIRMED
SUMMARY:Animation - "Ciné d'été"
DESCRIPTION:Jeudi 31 août 2023\, à 14h\, Médiathèque de Monaco - B
 ibliothèque Louis Notari\n\nUne séance de cinéma pour (re)découvri
 r des classiques\, des nouveautés\, s'émerveiller au frais devant la
  magie d'un film. L'occasion aussi de se retrouver entre cinéphiles\,
  spectateurs devant un grand écran tout au long de l'été.\n\n https
 ://www.principocket.com/fr/event/132b2882072548015b2e57112df368fb/anim
 ation-cine-d-ete
LOCATION:5 Promenade Honoré II\, Monaco
URL:https://www.principocket.com/event/132b2882072548015b2e57112df368f
 b/2502
DTSTAMP:20260422T104344Z
CREATED:20230831T120058Z
LAST-MODIFIED:20230831T120058Z
END:VEVENT
END:VCALENDAR
