BEGIN:VCALENDAR
VERSION:2.0
PRODID:-//Microsoft Corporation//Outlook 16.0 MIMEDIR//FR
CALSCALE:GREGORIAN
METHOD:PUBLISH
X-WR-TIMEZONE:Europe/Monaco
X-MS-OLK-FORCEINSPECTOROPEN:"TRUE"
BEGIN:VTIMEZONE
TZID:Europe/Monaco
BEGIN:STANDARD
DTSTART:20231029T010000
TZOFFSETTO:+0100
TZOFFSETFROM:+0200
RRULE:FREQ=YEARLY;BYMONTH=11;BYDAY=1SU
END:STANDARD
BEGIN:DAYLIGHT
DTSTART:20230326T010000
TZOFFSETTO:+0200
TZOFFSETFROM:+0100
RRULE:FREQ=YEARLY;BYMONTH=3;BYDAY=2SU
END:DAYLIGHT
END:VTIMEZONE
BEGIN:VEVENT
UID:2115-3a8889c431e7d9533eb648b64f82238f-principocket.com\n
DTSTART:20230710T203000
DTEND:20230710T203000
TRANSP:TRANSPARENT
IMAGE;VALUE=URI;DISPLAY=;FMTTYPE=image/png:https://app.monacoplatform.
 com/uploads/aj/ajzwjKE6_z.png
STATUS:CONFIRMED
SUMMARY:Concert Chris Isaak - Monte-Carlo Summer Festival
DESCRIPTION:Lundi 10 juillet 2023\, à 20h30\, Opéra de Monte-Carlo -
  Salle Garnier\n\nChris Isaak ouvrira le Monte-Carlo Summer Festival 
 à l’Opéra Garnier Monte-Carlo pour cette nouvelle édition 2023\, 
 le 10 juillet !\n\n https://www.principocket.com/fr/event/3a8889c431e7
 d9533eb648b64f82238f/concert-chris-isaak-monte-carlo-summer-festival
LOCATION:Place du Casino
URL:https://www.principocket.com/event/3a8889c431e7d9533eb648b64f82238
 f/2115
DTSTAMP:20260422T123553Z
CREATED:20230619T102546Z
LAST-MODIFIED:20230619T102546Z
END:VEVENT
END:VCALENDAR
