BEGIN:VCALENDAR
VERSION:2.0
PRODID:-//Microsoft Corporation//Outlook 16.0 MIMEDIR//FR
CALSCALE:GREGORIAN
METHOD:PUBLISH
X-WR-TIMEZONE:Europe/Monaco
X-MS-OLK-FORCEINSPECTOROPEN:"TRUE"
BEGIN:VTIMEZONE
TZID:Europe/Monaco
BEGIN:STANDARD
DTSTART:20231029T010000
TZOFFSETTO:+0100
TZOFFSETFROM:+0200
RRULE:FREQ=YEARLY;BYMONTH=11;BYDAY=1SU
END:STANDARD
BEGIN:DAYLIGHT
DTSTART:20230326T010000
TZOFFSETTO:+0200
TZOFFSETFROM:+0100
RRULE:FREQ=YEARLY;BYMONTH=3;BYDAY=2SU
END:DAYLIGHT
END:VTIMEZONE
BEGIN:VEVENT
UID:2069-69bb5c85e4cd8d0fe70a3f5756ef2da1-principocket.com\n
DTSTART:20230405T163000
DTEND:20230405T163000
TRANSP:TRANSPARENT
IMAGE;VALUE=URI;DISPLAY=;FMTTYPE=image/png:https://app.monacoplatform.
 com/uploads/kR/kROK_pD4eo.jpg
STATUS:CONFIRMED
SUMMARY:Théâtre - "Blanche Neige voit rouge"
DESCRIPTION:Mercredi 5 avril 2023\, à 16h30\, Théâtre des Muses\n\n
 Il était une fois Blanche Neige\, une princesse d’une très grande 
 beauté\, ce qui rendait folle de jalousie sa marâtre\, la méchante 
 reine. Pour rester la plus belle\, la méchante reine fera tout pour s
 e débarrasser de sa belle fille. Heureusement Blanche Neige trouvera 
 refuge dans la maison des sept nains Ce conte aurait pu se dérouler n
 ormalement si deux jeunes conteuses\, plus maladroites l’une que l
 ’autre n’avaient pas décidé de s’en emparer.\n\n https://www.p
 rincipocket.com/fr/event/69bb5c85e4cd8d0fe70a3f5756ef2da1/theatre-blan
 che-neige-voit-rouge
LOCATION:45\, boulevard du Jardin Exotique
URL:https://www.principocket.com/event/69bb5c85e4cd8d0fe70a3f5756ef2da
 1/2069
DTSTAMP:20260420T121250Z
CREATED:20230405T122220Z
LAST-MODIFIED:20230405T122220Z
END:VEVENT
END:VCALENDAR
