BEGIN:VCALENDAR
VERSION:2.0
PRODID:-//Microsoft Corporation//Outlook 16.0 MIMEDIR//FR
CALSCALE:GREGORIAN
METHOD:PUBLISH
X-WR-TIMEZONE:Europe/Monaco
X-MS-OLK-FORCEINSPECTOROPEN:"TRUE"
BEGIN:VTIMEZONE
TZID:Europe/Monaco
BEGIN:STANDARD
DTSTART:20231029T010000
TZOFFSETTO:+0100
TZOFFSETFROM:+0200
RRULE:FREQ=YEARLY;BYMONTH=11;BYDAY=1SU
END:STANDARD
BEGIN:DAYLIGHT
DTSTART:20230326T010000
TZOFFSETTO:+0200
TZOFFSETFROM:+0100
RRULE:FREQ=YEARLY;BYMONTH=3;BYDAY=2SU
END:DAYLIGHT
END:VTIMEZONE
BEGIN:VEVENT
UID:2067-d4b81d722aba329f0eb3212b29a823ad-principocket.com\n
DTSTART:20230324T190000
DTEND:20230324T190000
TRANSP:TRANSPARENT
IMAGE;VALUE=URI;DISPLAY=;FMTTYPE=image/png:https://app.monacoplatform.
 com/uploads/t0/t0NTTMQyXw.jpg
STATUS:CONFIRMED
SUMMARY:Théâtre Musical - "A Corps Perdus"
DESCRIPTION:Vendredi 24 mars 2023\, à 19h\, Théâtre Princesse Grace
 \n\nDès lundi 20 mars 2023\, plusieurs étudiants de 2ème année de 
 l’École Supérieure d’Arts Plastiques - Pavillon Bosio (ESAP) s
 ’installeront au Théâtre Princesse Grace durant une semaine afin d
 e préparer un nouveau projet de théâtre musical. A l’issue de la 
 semaine de résidence\, les éudiants de l’ESAP\, en collaboration a
 vec des musiciens du Conservatoire de Nice\, présenteront une expéri
 ence théâtrale et musicale intitulée « A corps perdus ». Sous la 
 coordination de Damien Sorrentino et Dominique Drillot\, la représent
 ation met en scène trois explorateurs qui voyagent à travers différ
 ents mondes et tentent de dialoguer avec les créatures qui les peuple
 nt. Leur quête ? Trouver une forme de transcendance afin d’atteindr
 e une vie éternelle… Entrée libre et gratuite.\n\n https://www.pri
 ncipocket.com/fr/event/d4b81d722aba329f0eb3212b29a823ad/theatre-musica
 l-a-corps-perdus
LOCATION:12\, avenue d'Ostende
URL:https://www.principocket.com/event/d4b81d722aba329f0eb3212b29a823a
 d/2067
DTSTAMP:20260420T171047Z
CREATED:20230324T075338Z
LAST-MODIFIED:20230324T075338Z
END:VEVENT
END:VCALENDAR
