BEGIN:VCALENDAR
VERSION:2.0
PRODID:-//Microsoft Corporation//Outlook 16.0 MIMEDIR//FR
CALSCALE:GREGORIAN
METHOD:PUBLISH
X-WR-TIMEZONE:Europe/Monaco
X-MS-OLK-FORCEINSPECTOROPEN:"TRUE"
BEGIN:VTIMEZONE
TZID:Europe/Monaco
BEGIN:STANDARD
DTSTART:20241027T010000
TZOFFSETTO:+0100
TZOFFSETFROM:+0200
RRULE:FREQ=YEARLY;BYMONTH=11;BYDAY=1SU
END:STANDARD
BEGIN:DAYLIGHT
DTSTART:20240331T010000
TZOFFSETTO:+0200
TZOFFSETFROM:+0100
RRULE:FREQ=YEARLY;BYMONTH=3;BYDAY=2SU
END:DAYLIGHT
END:VTIMEZONE
BEGIN:VEVENT
UID:2066-a99e2bd487f8a717d4c210490eb5a8a8-principocket.com\n
DTSTART:20230320T090000
DTEND:20240401T180000
TRANSP:TRANSPARENT
IMAGE;VALUE=URI;DISPLAY=;FMTTYPE=image/png:https://app.monacoplatform.
 com/uploads/Cc/CcNCvJrRVr.jpg
STATUS:CONFIRMED
SUMMARY:Exposition - "Albert 1er - Un Prince Préhistorien"
DESCRIPTION:Du lundi 20 mars 2023 au dimanche 31 mars 2024\, de 9h à 
 18h\, Musée d’Anthropologie Préhistorique\n\nDécouvrez le prince 
 Albert Ier autrement ! Rendez-vous aujourd’hui avec un prince préhi
 storien\, avec le scientifique et l’homme de terrain\, pour retracer
  ses explorations archéologiques. Des grottes de Grimaldi à l’Espa
 gne\, de la fondation du Musée d’Anthropologie préhistorique de Mo
 naco à l’Institut de Paléontologie Humaine de Paris\, les visiteur
 s sonderont les chemins passionnants des aventures et des réflexions 
 archéologiques d’un prince passionné et passionnant.\n\n https://w
 ww.principocket.com/fr/event/a99e2bd487f8a717d4c210490eb5a8a8/expositi
 on-albert-1er-un-prince-prehistorien
LOCATION:56 bis\, boulevard du Jardin Exotique
URL:https://www.principocket.com/event/a99e2bd487f8a717d4c210490eb5a8a
 8/2066
DTSTAMP:20260420T184318Z
CREATED:20240329T154131Z
LAST-MODIFIED:20240329T154131Z
END:VEVENT
END:VCALENDAR
