BEGIN:VCALENDAR
VERSION:2.0
PRODID:-//Microsoft Corporation//Outlook 16.0 MIMEDIR//FR
CALSCALE:GREGORIAN
METHOD:PUBLISH
X-WR-TIMEZONE:Europe/Monaco
X-MS-OLK-FORCEINSPECTOROPEN:"TRUE"
BEGIN:VTIMEZONE
TZID:Europe/Monaco
BEGIN:STANDARD
DTSTART:20231029T010000
TZOFFSETTO:+0100
TZOFFSETFROM:+0200
RRULE:FREQ=YEARLY;BYMONTH=11;BYDAY=1SU
END:STANDARD
BEGIN:DAYLIGHT
DTSTART:20230326T010000
TZOFFSETTO:+0200
TZOFFSETFROM:+0100
RRULE:FREQ=YEARLY;BYMONTH=3;BYDAY=2SU
END:DAYLIGHT
END:VTIMEZONE
BEGIN:VEVENT
UID:2064-d8e683d3a755670258e4d61ef36ed628-principocket.com\n
DTSTART:20230317T000000
DTEND:20230516T000000
TRANSP:TRANSPARENT
IMAGE;VALUE=URI;DISPLAY=;FMTTYPE=image/png:https://app.monacoplatform.
 com/uploads/T3/T3oRrXjy6o.jpg
STATUS:CONFIRMED
SUMMARY:Appel à participation - Scène ouverte du Fort Antoine
DESCRIPTION:Du vendredi 17 mars au lundi 15 mai 2023\, Principauté de
  Monaco\n\nAfin de poursuivre la mise en valeur des jeunes talents de 
 la Principauté et de renforcer les liens entre la culture et la jeune
 sse\, une scène ouverte sera organisée pour les jeunes et par les je
 unes le mardi 18 juillet 2023 au Fort Antoine. Pour les jeunes tout d
 ’abord\, car elle permettra aux personnes de 18 à 30 ans de révél
 er leur talent sur la scène magique du Fort Antoine\, qu’il s’agi
 sse de musique\, théâtre ou de danse. Les modalités de participatio
 n sont très simples : il suffit de s’inscrire avant le 15 mai en re
 mplissant un formulaire en ligne. Par les jeunes ensuite\, car nous pr
 oposons qu’un comité de 5 jeunes (entre 18 et 30 ans) organise cett
 e scène ouverte\, en lien avec les équipes de la DAC. De la techniqu
 e à la communication\, en passant par la logistique et les choix arti
 stiques\, ils piloteront tous les volets de l’organisation d’un é
 vénement culturel\, afin d’en faire un succès.\n\n https://www.pri
 ncipocket.com/fr/event/d8e683d3a755670258e4d61ef36ed628/appel-a-partic
 ipation-scene-ouverte-du-fort-antoine
LOCATION:Monaco
URL:https://www.principocket.com/event/d8e683d3a755670258e4d61ef36ed62
 8/2064
DTSTAMP:20260420T231304Z
CREATED:20230515T101633Z
LAST-MODIFIED:20230515T101633Z
X-MICROSOFT-CDO-ALLDAYEVENT:TRUE
END:VEVENT
END:VCALENDAR
