BEGIN:VCALENDAR
VERSION:2.0
PRODID:-//Microsoft Corporation//Outlook 16.0 MIMEDIR//FR
CALSCALE:GREGORIAN
METHOD:PUBLISH
X-WR-TIMEZONE:Europe/Monaco
X-MS-OLK-FORCEINSPECTOROPEN:"TRUE"
BEGIN:VTIMEZONE
TZID:Europe/Monaco
BEGIN:STANDARD
DTSTART:20231029T010000
TZOFFSETTO:+0100
TZOFFSETFROM:+0200
RRULE:FREQ=YEARLY;BYMONTH=11;BYDAY=1SU
END:STANDARD
BEGIN:DAYLIGHT
DTSTART:20230326T010000
TZOFFSETTO:+0200
TZOFFSETFROM:+0100
RRULE:FREQ=YEARLY;BYMONTH=3;BYDAY=2SU
END:DAYLIGHT
END:VTIMEZONE
BEGIN:VEVENT
UID:2059-5325acf36f79a381514b40a241718ce1-principocket.com\n
DTSTART:20230330T190000
DTEND:20230330T200000
TRANSP:TRANSPARENT
IMAGE;VALUE=URI;DISPLAY=;FMTTYPE=image/png:https://app.monacoplatform.
 com/uploads/fG/fG7NR5NxkR.jpeg
STATUS:CONFIRMED
SUMMARY:Projection du documentaire "L'École de la Vie, l'école de la
  métamorphose"
DESCRIPTION:Jeudi 30 mars 2023\, de 19h à 20h\, Agora - Maison Diocé
 saine\n\n\n\n https://www.principocket.com/fr/event/5325acf36f79a38151
 4b40a241718ce1/projection-du-documentaire-l-ecole-de-la-vie-l-ecole-de
 -la-metamorphose
LOCATION:18\, rue Bellevue
URL:https://www.principocket.com/event/5325acf36f79a381514b40a241718ce
 1/2059
DTSTAMP:20260421T070654Z
CREATED:20230327T075129Z
LAST-MODIFIED:20230327T075129Z
END:VEVENT
END:VCALENDAR
