BEGIN:VCALENDAR
VERSION:2.0
PRODID:-//Microsoft Corporation//Outlook 16.0 MIMEDIR//FR
CALSCALE:GREGORIAN
METHOD:PUBLISH
X-WR-TIMEZONE:Europe/Monaco
X-MS-OLK-FORCEINSPECTOROPEN:"TRUE"
BEGIN:VTIMEZONE
TZID:Europe/Monaco
BEGIN:STANDARD
DTSTART:20231029T010000
TZOFFSETTO:+0100
TZOFFSETFROM:+0200
RRULE:FREQ=YEARLY;BYMONTH=11;BYDAY=1SU
END:STANDARD
BEGIN:DAYLIGHT
DTSTART:20230326T010000
TZOFFSETTO:+0200
TZOFFSETFROM:+0100
RRULE:FREQ=YEARLY;BYMONTH=3;BYDAY=2SU
END:DAYLIGHT
END:VTIMEZONE
BEGIN:VEVENT
UID:2056-af6b9e5ce0feb648bf96d9f225582760-principocket.com\n
DTSTART:20230707T000000
DTEND:20230708T235900
TRANSP:TRANSPARENT
IMAGE;VALUE=URI;DISPLAY=;FMTTYPE=image/png:https://app.monacoplatform.
 com/uploads/Hh/HhupbsshhA.png
STATUS:CONFIRMED
SUMMARY:Kendji Girac sur scène à Monaco pour le  3° MC Summer Concert
DESCRIPTION:Vendredi 7 juillet 2023\, à \, Espace Léo Ferré\n\nLe c
 hanteur et guitariste\, Kendji Girac\, se produira sur la scène de l
 ’Espace Léo Ferré\, le vendredi 7 juillet 2023\, pour la troisièm
 e édition du Mc Summer Concert*\, destiné aux jeunes de Monaco\, de 
 13 à 25 ans (Monégasques\, résidents\, scolarisés ou étudiants en
  Principauté).\n\n https://www.principocket.com/fr/event/af6b9e5ce0fe
 b648bf96d9f225582760/kendji-girac-sur-scene-a-monaco-pour-le-3-mc-summ
 er-concert
LOCATION:25\, avenue Albert II
URL:https://www.principocket.com/event/af6b9e5ce0feb648bf96d9f22558276
 0/2056
DTSTAMP:20260425T124746Z
CREATED:20230320T160446Z
LAST-MODIFIED:20230320T160446Z
X-MICROSOFT-CDO-ALLDAYEVENT:TRUE
END:VEVENT
END:VCALENDAR
