BEGIN:VCALENDAR
VERSION:2.0
PRODID:-//Microsoft Corporation//Outlook 16.0 MIMEDIR//FR
CALSCALE:GREGORIAN
METHOD:PUBLISH
X-WR-TIMEZONE:Europe/Monaco
X-MS-OLK-FORCEINSPECTOROPEN:"TRUE"
BEGIN:VTIMEZONE
TZID:Europe/Monaco
BEGIN:STANDARD
DTSTART:20231029T010000
TZOFFSETTO:+0100
TZOFFSETFROM:+0200
RRULE:FREQ=YEARLY;BYMONTH=11;BYDAY=1SU
END:STANDARD
BEGIN:DAYLIGHT
DTSTART:20230326T010000
TZOFFSETTO:+0200
TZOFFSETFROM:+0100
RRULE:FREQ=YEARLY;BYMONTH=3;BYDAY=2SU
END:DAYLIGHT
END:VTIMEZONE
BEGIN:VEVENT
UID:1866-378afc3ce32b542e6e8b42cee6b6468d-principocket.com\n
DTSTART:20230601T203000
DTEND:20230605T163000
TRANSP:TRANSPARENT
IMAGE;VALUE=URI;DISPLAY=;FMTTYPE=image/png:https://app.monacoplatform.
 com/uploads/00/001QKeqK90.png
STATUS:CONFIRMED
SUMMARY:Il faut qu’une porte soit ouverte ou fermée
DESCRIPTION:Du jeudi 1 au dimanche 4 juin 2023\, Théâtre des Muses\n
 \nClassique\, Comédie de mœurs\, Romantique\n\n https://www.principo
 cket.com/fr/event/378afc3ce32b542e6e8b42cee6b6468d/il-faut-qu-une-port
 e-soit-ouverte-ou-fermee
LOCATION:45\, boulevard du Jardin Exotique
URL:https://www.principocket.com/event/378afc3ce32b542e6e8b42cee6b6468
 d/1866
DTSTAMP:20260420T123551Z
CREATED:20230116T081002Z
LAST-MODIFIED:20230116T081002Z
END:VEVENT
END:VCALENDAR
