BEGIN:VCALENDAR
VERSION:2.0
PRODID:-//Microsoft Corporation//Outlook 16.0 MIMEDIR//FR
CALSCALE:GREGORIAN
METHOD:PUBLISH
X-WR-TIMEZONE:Europe/Monaco
X-MS-OLK-FORCEINSPECTOROPEN:"TRUE"
BEGIN:VTIMEZONE
TZID:Europe/Monaco
BEGIN:STANDARD
DTSTART:20231029T010000
TZOFFSETTO:+0100
TZOFFSETFROM:+0200
RRULE:FREQ=YEARLY;BYMONTH=11;BYDAY=1SU
END:STANDARD
BEGIN:DAYLIGHT
DTSTART:20230326T010000
TZOFFSETTO:+0200
TZOFFSETFROM:+0100
RRULE:FREQ=YEARLY;BYMONTH=3;BYDAY=2SU
END:DAYLIGHT
END:VTIMEZONE
BEGIN:VEVENT
UID:1864-dab870f11f0c4c289f2d81ebcd0796b5-principocket.com\n
DTSTART:20230510T203000
DTEND:20230515T163000
TRANSP:TRANSPARENT
IMAGE;VALUE=URI;DISPLAY=;FMTTYPE=image/png:https://app.monacoplatform.
 com/uploads/TX/TXNFa8VWQG.png
STATUS:CONFIRMED
SUMMARY:Caubère / Daudet - Triptyque
DESCRIPTION:Du mercredi 10 au dimanche 14 mai 2023\, Théâtre des Mus
 es\n\nLa Chèvre\, La Mule et Les Etoiles\nSeul en scène\n\n https://
 www.principocket.com/fr/event/dab870f11f0c4c289f2d81ebcd0796b5/caubere
 -daudet-triptyque
LOCATION:45\, boulevard du Jardin Exotique
URL:https://www.principocket.com/event/dab870f11f0c4c289f2d81ebcd0796b
 5/1864
DTSTAMP:20260422T121953Z
CREATED:20230116T080954Z
LAST-MODIFIED:20230116T080954Z
END:VEVENT
END:VCALENDAR
