BEGIN:VCALENDAR
VERSION:2.0
PRODID:-//Microsoft Corporation//Outlook 16.0 MIMEDIR//FR
CALSCALE:GREGORIAN
METHOD:PUBLISH
X-WR-TIMEZONE:Europe/Monaco
X-MS-OLK-FORCEINSPECTOROPEN:"TRUE"
BEGIN:VTIMEZONE
TZID:Europe/Monaco
BEGIN:STANDARD
DTSTART:20231029T010000
TZOFFSETTO:+0100
TZOFFSETFROM:+0200
RRULE:FREQ=YEARLY;BYMONTH=11;BYDAY=1SU
END:STANDARD
BEGIN:DAYLIGHT
DTSTART:20230326T010000
TZOFFSETTO:+0200
TZOFFSETFROM:+0100
RRULE:FREQ=YEARLY;BYMONTH=3;BYDAY=2SU
END:DAYLIGHT
END:VTIMEZONE
BEGIN:VEVENT
UID:1862-be4f111b843dc16752a93bd3d1536dd2-principocket.com\n
DTSTART:20230413T203000
DTEND:20230417T163000
TRANSP:TRANSPARENT
IMAGE;VALUE=URI;DISPLAY=;FMTTYPE=image/png:https://app.monacoplatform.
 com/uploads/VP/VPG1S_Cyy_.png
STATUS:CONFIRMED
SUMMARY:Sacha Guitry Intime
DESCRIPTION:Du jeudi 13 au dimanche 16 avril 2023\, Théâtre des Muse
 s\n\nDéclaration d’amour\n\n https://www.principocket.com/fr/event/
 be4f111b843dc16752a93bd3d1536dd2/sacha-guitry-intime
LOCATION:45\, boulevard du Jardin Exotique
URL:https://www.principocket.com/event/be4f111b843dc16752a93bd3d1536dd
 2/1862
DTSTAMP:20260422T154211Z
CREATED:20230116T080947Z
LAST-MODIFIED:20230116T080947Z
END:VEVENT
END:VCALENDAR
