BEGIN:VCALENDAR
VERSION:2.0
PRODID:-//Microsoft Corporation//Outlook 16.0 MIMEDIR//FR
CALSCALE:GREGORIAN
METHOD:PUBLISH
X-WR-TIMEZONE:Europe/Monaco
X-MS-OLK-FORCEINSPECTOROPEN:"TRUE"
BEGIN:VTIMEZONE
TZID:Europe/Monaco
BEGIN:STANDARD
DTSTART:20231029T010000
TZOFFSETTO:+0100
TZOFFSETFROM:+0200
RRULE:FREQ=YEARLY;BYMONTH=11;BYDAY=1SU
END:STANDARD
BEGIN:DAYLIGHT
DTSTART:20230326T010000
TZOFFSETTO:+0200
TZOFFSETFROM:+0100
RRULE:FREQ=YEARLY;BYMONTH=3;BYDAY=2SU
END:DAYLIGHT
END:VTIMEZONE
BEGIN:VEVENT
UID:1773-4f33dfb4682d41cad60b9c02bcb7c47b-principocket.com\n
DTSTART:20230509T200000
DTEND:20230509T200000
TRANSP:TRANSPARENT
IMAGE;VALUE=URI;DISPLAY=;FMTTYPE=image/png:https://app.monacoplatform.
 com/uploads/5L/5LEQusZclX.jpg
STATUS:CONFIRMED
SUMMARY:Tout l'Art du Cinéma - "L'Enigmatique Monsieur D."
DESCRIPTION:Mardi 9 mai 2023\, à 20h\, Théâtre des Variétés\n\nMo
 naco en Films - L'Enigmatique Monsieur D. de Sheldon Reynolds (1956). 
 Une série B qui promène Mitchum\nde Monaco à Stockholm\, avec\ndes 
 espions à tous les coins\nde rue\, ça ne se refuse pas. Organisé pa
 r l'Institut Audiovisuel de Monaco.\n\n https://www.principocket.com/f
 r/event/4f33dfb4682d41cad60b9c02bcb7c47b/tout-l-art-du-cinema-l-enigma
 tique-monsieur-d
LOCATION:1\, boulevard Albert Ier
URL:https://www.principocket.com/event/4f33dfb4682d41cad60b9c02bcb7c47
 b/1773
DTSTAMP:20260420T123549Z
CREATED:20230509T155446Z
LAST-MODIFIED:20230509T155446Z
END:VEVENT
END:VCALENDAR
