BEGIN:VCALENDAR
VERSION:2.0
PRODID:-//Microsoft Corporation//Outlook 16.0 MIMEDIR//FR
CALSCALE:GREGORIAN
METHOD:PUBLISH
X-WR-TIMEZONE:Europe/Monaco
X-MS-OLK-FORCEINSPECTOROPEN:"TRUE"
BEGIN:VTIMEZONE
TZID:Europe/Monaco
BEGIN:STANDARD
DTSTART:20231029T010000
TZOFFSETTO:+0100
TZOFFSETFROM:+0200
RRULE:FREQ=YEARLY;BYMONTH=11;BYDAY=1SU
END:STANDARD
BEGIN:DAYLIGHT
DTSTART:20230326T010000
TZOFFSETTO:+0200
TZOFFSETFROM:+0100
RRULE:FREQ=YEARLY;BYMONTH=3;BYDAY=2SU
END:DAYLIGHT
END:VTIMEZONE
BEGIN:VEVENT
UID:1772-7e5f30935a0dc594a7dbe75d11c50fe4-principocket.com\n
DTSTART:20230509T200000
DTEND:20230509T200000
TRANSP:TRANSPARENT
IMAGE;VALUE=URI;DISPLAY=;FMTTYPE=image/png:https://app.monacoplatform.
 com/uploads/XF/XFCc27HkTI.jpg
STATUS:CONFIRMED
SUMMARY:Théâtre - "Chœur des Amants"
DESCRIPTION:Mardi 9 mai 2023\, à 20h\, Théâtre Princesse Grace\n\nC
 hœur des amants est un récit lyrique et polyphonique dans lequel un
  jeune couple raconte à deux voix la condition de vie et de mort qu
 ’ils traversent lorsque l’un d’eux se sent étouffé. Texte et
  mise en scène de Tiago Rodrigues\, avec Grégoire Monsaingeon et A
 lma Palacios.\n\n https://www.principocket.com/fr/event/7e5f30935a0dc5
 94a7dbe75d11c50fe4/theatre-choeur-des-amants
LOCATION:12\, avenue d'Ostende
URL:https://www.principocket.com/event/7e5f30935a0dc594a7dbe75d11c50fe
 4/1772
DTSTAMP:20260422T122359Z
CREATED:20230509T155446Z
LAST-MODIFIED:20230509T155446Z
END:VEVENT
END:VCALENDAR
