BEGIN:VCALENDAR
VERSION:2.0
PRODID:-//Microsoft Corporation//Outlook 16.0 MIMEDIR//FR
CALSCALE:GREGORIAN
METHOD:PUBLISH
X-WR-TIMEZONE:Europe/Monaco
X-MS-OLK-FORCEINSPECTOROPEN:"TRUE"
BEGIN:VTIMEZONE
TZID:Europe/Monaco
BEGIN:STANDARD
DTSTART:20231029T010000
TZOFFSETTO:+0100
TZOFFSETFROM:+0200
RRULE:FREQ=YEARLY;BYMONTH=11;BYDAY=1SU
END:STANDARD
BEGIN:DAYLIGHT
DTSTART:20230326T010000
TZOFFSETTO:+0200
TZOFFSETFROM:+0100
RRULE:FREQ=YEARLY;BYMONTH=3;BYDAY=2SU
END:DAYLIGHT
END:VTIMEZONE
BEGIN:VEVENT
UID:1768-9c142c3238636377819bf0fb2ee87793-principocket.com\n
DTSTART:20230505T200000
DTEND:20230505T200000
TRANSP:TRANSPARENT
IMAGE;VALUE=URI;DISPLAY=;FMTTYPE=image/png:https://app.monacoplatform.
 com/uploads/fx/fx3nclNIl0.jpg
STATUS:CONFIRMED
SUMMARY:Concert - "Récital Nelson Goerner"
DESCRIPTION:Vendredi 5 mai 2023\, à 20h\, Auditorium Rainier III\n\nS
 aison 22/23 de l'Orchestre Philarmonique de Monte-Carlo\, Sous La Pré
 sidence de S.A.R. La Princesse de Hanovre - "Récital Nelson Goerner" 
 avec Nelson Goerner (piano). Au programme : Chopin et Liszt.\n\n https
 ://www.principocket.com/fr/event/9c142c3238636377819bf0fb2ee87793/conc
 ert-recital-nelson-goerner
LOCATION:Boulevard Louis II
URL:https://www.principocket.com/event/9c142c3238636377819bf0fb2ee8779
 3/1768
DTSTAMP:20260420T134640Z
CREATED:20230505T094501Z
LAST-MODIFIED:20230505T094501Z
END:VEVENT
END:VCALENDAR
