BEGIN:VCALENDAR
VERSION:2.0
PRODID:-//Microsoft Corporation//Outlook 16.0 MIMEDIR//FR
CALSCALE:GREGORIAN
METHOD:PUBLISH
X-WR-TIMEZONE:Europe/Monaco
X-MS-OLK-FORCEINSPECTOROPEN:"TRUE"
BEGIN:VTIMEZONE
TZID:Europe/Monaco
BEGIN:STANDARD
DTSTART:20231029T010000
TZOFFSETTO:+0100
TZOFFSETFROM:+0200
RRULE:FREQ=YEARLY;BYMONTH=11;BYDAY=1SU
END:STANDARD
BEGIN:DAYLIGHT
DTSTART:20230326T010000
TZOFFSETTO:+0200
TZOFFSETFROM:+0100
RRULE:FREQ=YEARLY;BYMONTH=3;BYDAY=2SU
END:DAYLIGHT
END:VTIMEZONE
BEGIN:VEVENT
UID:1758-9eee6664dd82367b5fa7c4958f616ed4-principocket.com\n
DTSTART:20230418T200000
DTEND:20230418T200000
TRANSP:TRANSPARENT
IMAGE;VALUE=URI;DISPLAY=;FMTTYPE=image/png:https://app.monacoplatform.
 com/uploads/oZ/oZhdi4ebND.jpg
STATUS:CONFIRMED
SUMMARY:Théâtre - "L'Embarras du Choix"
DESCRIPTION:Mardi 18 avril 2023\, à 20h\, Théâtre Princesse Grace\n
 \nLe jour de ses trente-cinq ans\, Max se rend compte qu’il est pass
 é à côté de sa vie. Paralysé à l’idée de faire le mauv
 ais choix\, il décide de demander conseil auprès de ses amis : le 
 public. Comme vous l’aurez compris\, dans cette comédie interactiv
 e\, c’est vous qui allez influer et décider de la suite de l’his
 toire à travers vos choix successifs. De Sébastien Azzopardi et Sac
 ha Danino\, mise en scène de Sébastien Azzopardi\, avec Sébastien
  Azzopardi\, Margaux Maillet ou Julie Desbrueres\, Patrice Latronche o
 u Thierry Lanckriet\, Charlotte Biziak ou Amaya Carrete et Augustin de
  Monts ou Delphin Lacroix.\n\n https://www.principocket.com/fr/event/9
 eee6664dd82367b5fa7c4958f616ed4/theatre-l-embarras-du-choix
LOCATION:12\, avenue d'Ostende
URL:https://www.principocket.com/event/9eee6664dd82367b5fa7c4958f616ed
 4/1758
DTSTAMP:20260421T081424Z
CREATED:20230418T121752Z
LAST-MODIFIED:20230418T121752Z
END:VEVENT
END:VCALENDAR
