BEGIN:VCALENDAR
VERSION:2.0
PRODID:-//Microsoft Corporation//Outlook 16.0 MIMEDIR//FR
CALSCALE:GREGORIAN
METHOD:PUBLISH
X-WR-TIMEZONE:Europe/Monaco
X-MS-OLK-FORCEINSPECTOROPEN:"TRUE"
BEGIN:VTIMEZONE
TZID:Europe/Monaco
BEGIN:STANDARD
DTSTART:20231029T010000
TZOFFSETTO:+0100
TZOFFSETFROM:+0200
RRULE:FREQ=YEARLY;BYMONTH=11;BYDAY=1SU
END:STANDARD
BEGIN:DAYLIGHT
DTSTART:20230326T010000
TZOFFSETTO:+0200
TZOFFSETFROM:+0100
RRULE:FREQ=YEARLY;BYMONTH=3;BYDAY=2SU
END:DAYLIGHT
END:VTIMEZONE
BEGIN:VEVENT
UID:1752-2ee8088175093561ec23be4e0042eb84-principocket.com\n
DTSTART:20230318T200000
DTEND:20230318T200000
TRANSP:TRANSPARENT
IMAGE;VALUE=URI;DISPLAY=;FMTTYPE=image/png:https://app.monacoplatform.
 com/uploads/6D/6Dkv-BOoht.jpg
STATUS:CONFIRMED
SUMMARY:Spectacle - "Plateau Multi-Artistes"
DESCRIPTION:Samedi 18 mars 2023\, à 20h\, Grimaldi Forum Monaco\n\nLe
 s Sérénissimes de l’Humour - Plateau multi-artistes\, 5 nouveaux t
 alents\, 20 minutes chacun pour vous offrir le meilleur de leur specta
 cle\, 1h30 de rire\, Quoi de plus? Placé Sous le Haut Patronage de S.
 A.S. le Prince  Albert II. Organisé par Monaco Live Productions en pa
 rtenariat avec Rire & Chansons.\n\n https://www.principocket.com/fr/ev
 ent/2ee8088175093561ec23be4e0042eb84/spectacle-plateau-multi-artistes
LOCATION:10\, avenue Princesse Grace
URL:https://www.principocket.com/event/2ee8088175093561ec23be4e0042eb8
 4/1752
DTSTAMP:20260420T140219Z
CREATED:20230315T164548Z
LAST-MODIFIED:20230315T164548Z
END:VEVENT
END:VCALENDAR
