BEGIN:VCALENDAR
VERSION:2.0
PRODID:-//Microsoft Corporation//Outlook 16.0 MIMEDIR//FR
CALSCALE:GREGORIAN
METHOD:PUBLISH
X-WR-TIMEZONE:Europe/Monaco
X-MS-OLK-FORCEINSPECTOROPEN:"TRUE"
BEGIN:VTIMEZONE
TZID:Europe/Monaco
BEGIN:STANDARD
DTSTART:20221030T010000
TZOFFSETTO:+0100
TZOFFSETFROM:+0200
RRULE:FREQ=YEARLY;BYMONTH=11;BYDAY=1SU
END:STANDARD
BEGIN:DAYLIGHT
DTSTART:20220327T010000
TZOFFSETTO:+0200
TZOFFSETFROM:+0100
RRULE:FREQ=YEARLY;BYMONTH=3;BYDAY=2SU
END:DAYLIGHT
END:VTIMEZONE
BEGIN:VEVENT
UID:1718-fff313fb888fe0ffb7bbf4bb105cce63-principocket.com\n
DTSTART:20221031T140000
DTEND:20221031T173000
TRANSP:TRANSPARENT
IMAGE;VALUE=URI;DISPLAY=;FMTTYPE=image/png:https://app.monacoplatform.
 com/uploads/5u/5uFCMVPT1B.jpg
STATUS:CONFIRMED
SUMMARY:Animation - "Grand Jeu d'Halloween"
DESCRIPTION:Lundi 31 octobre 2022\, de 14h à 17h30\, Le Parc Princess
 e Antoinette\n\nLes équipes de La Boîte de Jeux attendent les enfant
 s scolarisés en Principauté pour un tout nouveau jeu : « Dia de los
  muertos ». Déguisements bienvenus et bonbons à la clé ! Attention
 \, une inscription en ligne est obligatoire afin de choisir son créne
 au horaire (maximum 28 enfants par tranche de 15 minutes).\n\n https:/
 /www.principocket.com/fr/event/fff313fb888fe0ffb7bbf4bb105cce63/animat
 ion-grand-jeu-d-halloween
LOCATION:54 Boulevard du Jardin Exotique
URL:https://www.principocket.com/event/fff313fb888fe0ffb7bbf4bb105cce6
 3/1718
DTSTAMP:20260419T122624Z
CREATED:20221017T072122Z
LAST-MODIFIED:20221017T072122Z
END:VEVENT
END:VCALENDAR
