BEGIN:VCALENDAR
VERSION:2.0
PRODID:-//Microsoft Corporation//Outlook 16.0 MIMEDIR//FR
CALSCALE:GREGORIAN
METHOD:PUBLISH
X-WR-TIMEZONE:Europe/Monaco
X-MS-OLK-FORCEINSPECTOROPEN:"TRUE"
BEGIN:VTIMEZONE
TZID:Europe/Monaco
BEGIN:STANDARD
DTSTART:20231029T010000
TZOFFSETTO:+0100
TZOFFSETFROM:+0200
RRULE:FREQ=YEARLY;BYMONTH=11;BYDAY=1SU
END:STANDARD
BEGIN:DAYLIGHT
DTSTART:20230326T010000
TZOFFSETTO:+0200
TZOFFSETFROM:+0100
RRULE:FREQ=YEARLY;BYMONTH=3;BYDAY=2SU
END:DAYLIGHT
END:VTIMEZONE
BEGIN:VEVENT
UID:1698-f858e8cdbfed915b004c184e9378cfa0-principocket.com\n
DTSTART:20230321T200000
DTEND:20230321T200000
TRANSP:TRANSPARENT
IMAGE;VALUE=URI;DISPLAY=;FMTTYPE=image/png:https://app.monacoplatform.
 com/uploads/BJ/BJGD-b-iCk.jpg
STATUS:CONFIRMED
SUMMARY:Tout l'Art du Cinéma - "Anatomie d'un rapport"
DESCRIPTION:Mardi 21 mars 2023\, à 20h\, Théâtre des Variétés\n\n
 Les Mardis du Cinéma - Anatomie d'un rapport de Luc Moullet (1976). 
 À la fois drôle et tragique\, banale et extraordinaire\, cette ficti
 on-documentaire nous parle de sexualité de façon étonnamment libre.
  Organisé par l'Institut Audiovisuel de Monaco.\n\n https://www.princ
 ipocket.com/fr/event/f858e8cdbfed915b004c184e9378cfa0/tout-l-art-du-ci
 nema-anatomie-d-un-rapport
LOCATION:1\, boulevard Albert Ier
URL:https://www.principocket.com/event/f858e8cdbfed915b004c184e9378cfa
 0/1698
DTSTAMP:20260424T091037Z
CREATED:20230315T164548Z
LAST-MODIFIED:20230315T164548Z
END:VEVENT
END:VCALENDAR
