BEGIN:VCALENDAR
VERSION:2.0
PRODID:-//Microsoft Corporation//Outlook 16.0 MIMEDIR//FR
CALSCALE:GREGORIAN
METHOD:PUBLISH
X-WR-TIMEZONE:Europe/Monaco
X-MS-OLK-FORCEINSPECTOROPEN:"TRUE"
BEGIN:VTIMEZONE
TZID:Europe/Monaco
BEGIN:STANDARD
DTSTART:20221030T010000
TZOFFSETTO:+0100
TZOFFSETFROM:+0200
RRULE:FREQ=YEARLY;BYMONTH=11;BYDAY=1SU
END:STANDARD
BEGIN:DAYLIGHT
DTSTART:20220327T010000
TZOFFSETTO:+0200
TZOFFSETFROM:+0100
RRULE:FREQ=YEARLY;BYMONTH=3;BYDAY=2SU
END:DAYLIGHT
END:VTIMEZONE
BEGIN:VEVENT
UID:1650-f14ec127f91662ed379a66f904fc8fba-principocket.com\n
DTSTART:20221215T140000
DTEND:20221215T140000
TRANSP:TRANSPARENT
IMAGE;VALUE=URI;DISPLAY=;FMTTYPE=image/png:https://app.monacoplatform.
 com/uploads/WB/WB3MxsdcDr.jpg
STATUS:CONFIRMED
SUMMARY:Les Ballets de Monte-Carlo - "Différents... Et alors !"
DESCRIPTION:Jeudi 15 décembre 2022\, à 14h\, Grimaldi Forum Monaco\n
 \nMonaco Dance Forum - 6e sens Compagnie et Dk-Bel livrent une réflex
 ion sensible sur le handicap.\nProjection et spectacles nous invitent 
 à partager leurs valeurs fondamentales : le dépassement des préjug
 és et la relation à l’Autre quelque soit sa différence. Un moment
  d’émotions riche d’enseignements.\n\n https://www.principocket.c
 om/fr/event/f14ec127f91662ed379a66f904fc8fba/les-ballets-de-monte-carl
 o-differents-et-alors
LOCATION:10\, avenue Princesse Grace
URL:https://www.principocket.com/event/f14ec127f91662ed379a66f904fc8fb
 a/1650
DTSTAMP:20260424T160204Z
CREATED:20221017T072123Z
LAST-MODIFIED:20221017T072123Z
END:VEVENT
END:VCALENDAR
