BEGIN:VCALENDAR
VERSION:2.0
PRODID:-//Microsoft Corporation//Outlook 16.0 MIMEDIR//FR
CALSCALE:GREGORIAN
METHOD:PUBLISH
X-WR-TIMEZONE:Europe/Monaco
X-MS-OLK-FORCEINSPECTOROPEN:"TRUE"
BEGIN:VTIMEZONE
TZID:Europe/Monaco
BEGIN:STANDARD
DTSTART:20221030T010000
TZOFFSETTO:+0100
TZOFFSETFROM:+0200
RRULE:FREQ=YEARLY;BYMONTH=11;BYDAY=1SU
END:STANDARD
BEGIN:DAYLIGHT
DTSTART:20220327T010000
TZOFFSETTO:+0200
TZOFFSETFROM:+0100
RRULE:FREQ=YEARLY;BYMONTH=3;BYDAY=2SU
END:DAYLIGHT
END:VTIMEZONE
BEGIN:VEVENT
UID:1649-0bcca8f49be48931a743a5c41c96634b-principocket.com\n
DTSTART:20221214T193000
DTEND:20221214T193000
TRANSP:TRANSPARENT
IMAGE;VALUE=URI;DISPLAY=;FMTTYPE=image/png:https://app.monacoplatform.
 com/uploads/xg/xgXfX93ssr.jpg
STATUS:CONFIRMED
SUMMARY:Monaco Dance Forum - "Igra (Jeux)"
DESCRIPTION:Mercredi 14 décembre 2022\, à 19h30\, Grimaldi Forum Mon
 aco\n\nMonaco Dance Forum - Igra fait écho à la pièce Jeux de Nijin
 sky en multipliant les clins d’oeil à cette pièce de 1913 dans laq
 uelle de jeunes gens cherchent des balles de tennis dans un parc au cr
 épuscule. Comme d’habitude chez Kor’sia\, la puissance visuelle j
 oue un rôle décisif par les choix musicaux et scéniques qui font de
  cette compagnie madrilène une des plus innovantes de la scène conte
 mporaine.\n\n https://www.principocket.com/fr/event/0bcca8f49be48931a7
 43a5c41c96634b/monaco-dance-forum-igra-jeux
LOCATION:10\, avenue Princesse Grace
URL:https://www.principocket.com/event/0bcca8f49be48931a743a5c41c96634
 b/1649
DTSTAMP:20260424T143536Z
CREATED:20221116T112223Z
LAST-MODIFIED:20221116T112223Z
END:VEVENT
END:VCALENDAR
