BEGIN:VCALENDAR
VERSION:2.0
PRODID:-//Microsoft Corporation//Outlook 16.0 MIMEDIR//FR
CALSCALE:GREGORIAN
METHOD:PUBLISH
X-WR-TIMEZONE:Europe/Monaco
X-MS-OLK-FORCEINSPECTOROPEN:"TRUE"
BEGIN:VTIMEZONE
TZID:Europe/Monaco
BEGIN:STANDARD
DTSTART:20221030T010000
TZOFFSETTO:+0100
TZOFFSETFROM:+0200
RRULE:FREQ=YEARLY;BYMONTH=11;BYDAY=1SU
END:STANDARD
BEGIN:DAYLIGHT
DTSTART:20220327T010000
TZOFFSETTO:+0200
TZOFFSETFROM:+0100
RRULE:FREQ=YEARLY;BYMONTH=3;BYDAY=2SU
END:DAYLIGHT
END:VTIMEZONE
BEGIN:VEVENT
UID:1629-5c2e5e9e5f9d9e8ea0c6fe1af32ffbe6-principocket.com\n
DTSTART:20221124T200000
DTEND:20221124T200000
TRANSP:TRANSPARENT
IMAGE;VALUE=URI;DISPLAY=;FMTTYPE=image/png:https://app.monacoplatform.
 com/uploads/mx/mx39CpjWyS.jpg
STATUS:CONFIRMED
SUMMARY:Théâtre - "Un Conseil d'Ami"
DESCRIPTION:Jeudi 24 novembre 2022\, à 20h\, Théâtre Princesse Grac
 e\n\nNe donnez jamais un conseil à votre meilleur ami\, vous pourrie
 z le regretter amèrement ! De Didier Caron\, avec Christian Vadim\, 
 Marie Fugain\, Manuel Gélin et Juliette Meyniac.\n\n https://www.pri
 ncipocket.com/fr/event/5c2e5e9e5f9d9e8ea0c6fe1af32ffbe6/theatre-un-con
 seil-d-ami
LOCATION:12\, avenue d'Ostende
URL:https://www.principocket.com/event/5c2e5e9e5f9d9e8ea0c6fe1af32ffbe
 6/1629
DTSTAMP:20260419T133908Z
CREATED:20221116T112222Z
LAST-MODIFIED:20221116T112222Z
END:VEVENT
END:VCALENDAR
