BEGIN:VCALENDAR
VERSION:2.0
PRODID:-//Microsoft Corporation//Outlook 16.0 MIMEDIR//FR
CALSCALE:GREGORIAN
METHOD:PUBLISH
X-WR-TIMEZONE:Europe/Monaco
X-MS-OLK-FORCEINSPECTOROPEN:"TRUE"
BEGIN:VTIMEZONE
TZID:Europe/Monaco
BEGIN:STANDARD
DTSTART:20221030T010000
TZOFFSETTO:+0100
TZOFFSETFROM:+0200
RRULE:FREQ=YEARLY;BYMONTH=11;BYDAY=1SU
END:STANDARD
BEGIN:DAYLIGHT
DTSTART:20220327T010000
TZOFFSETTO:+0200
TZOFFSETFROM:+0100
RRULE:FREQ=YEARLY;BYMONTH=3;BYDAY=2SU
END:DAYLIGHT
END:VTIMEZONE
BEGIN:VEVENT
UID:1628-8f7803d6259c3f8141e97712038afef0-principocket.com\n
DTSTART:20221123T203000
DTEND:20221123T203000
TRANSP:TRANSPARENT
IMAGE;VALUE=URI;DISPLAY=;FMTTYPE=image/png:https://app.monacoplatform.
 com/uploads/Ia/IaxBSp-BWJ.jpg
STATUS:CONFIRMED
SUMMARY:Concert - "Jeffro Tull"
DESCRIPTION:Mercredi 23 novembre 2022\, à 20h30\, Opéra de Monte-Car
 lo - Salle Garnier\n\nMonte-Carlo Jazz Festival 2022 - Ian Anderson et
  le groupe Jethro Tull\, l’un des groupes de Rock Progressif les plu
 s connus au monde\, annoncent leur retour sur scène avec leur tourné
 e "The Prog Years Tour".\n\n https://www.principocket.com/fr/event/8f7
 803d6259c3f8141e97712038afef0/concert-jeffro-tull
LOCATION:Place du Casino
URL:https://www.principocket.com/event/8f7803d6259c3f8141e97712038afef
 0/1628
DTSTAMP:20260419T164307Z
CREATED:20221116T112222Z
LAST-MODIFIED:20221116T112222Z
END:VEVENT
END:VCALENDAR
