BEGIN:VCALENDAR
VERSION:2.0
PRODID:-//Microsoft Corporation//Outlook 16.0 MIMEDIR//FR
CALSCALE:GREGORIAN
METHOD:PUBLISH
X-WR-TIMEZONE:Europe/Monaco
X-MS-OLK-FORCEINSPECTOROPEN:"TRUE"
BEGIN:VTIMEZONE
TZID:Europe/Monaco
BEGIN:STANDARD
DTSTART:20221030T010000
TZOFFSETTO:+0100
TZOFFSETFROM:+0200
RRULE:FREQ=YEARLY;BYMONTH=11;BYDAY=1SU
END:STANDARD
BEGIN:DAYLIGHT
DTSTART:20220327T010000
TZOFFSETTO:+0200
TZOFFSETFROM:+0100
RRULE:FREQ=YEARLY;BYMONTH=3;BYDAY=2SU
END:DAYLIGHT
END:VTIMEZONE
BEGIN:VEVENT
UID:1627-0a989482639880447edb8276ac4736f4-principocket.com\n
DTSTART:20221122T200000
DTEND:20221122T200000
TRANSP:TRANSPARENT
IMAGE;VALUE=URI;DISPLAY=;FMTTYPE=image/png:https://app.monacoplatform.
 com/uploads/gt/gt26XUZeYn.jpg
STATUS:CONFIRMED
SUMMARY:Tout l'Art du Cinéma - "Le Cabinet du Docteur Caligari"
DESCRIPTION:Mardi 22 novembre 2022\, à 20h\, Opéra de Monte-Carlo - 
 Salle Garnier\n\nCiné-concert - Le Cabinet du Docteur Caligari de Rob
 ert Wiene (1920). Manifeste du cinéma expressionniste allemand\, intr
 igant et prophétique\, Caligari est proposé en version orchestrale. 
 Organisé par l'Institut Audiovisuel de Monaco en partenariat avec l'O
 rchestre Philarmonique de Monte-Carlo.\n\n https://www.principocket.co
 m/fr/event/0a989482639880447edb8276ac4736f4/tout-l-art-du-cinema-le-ca
 binet-du-docteur-caligari
LOCATION:Place du Casino
URL:https://www.principocket.com/event/0a989482639880447edb8276ac4736f
 4/1627
DTSTAMP:20260419T150858Z
CREATED:20221116T112222Z
LAST-MODIFIED:20221116T112222Z
END:VEVENT
END:VCALENDAR
