BEGIN:VCALENDAR
VERSION:2.0
PRODID:-//Microsoft Corporation//Outlook 16.0 MIMEDIR//FR
CALSCALE:GREGORIAN
METHOD:PUBLISH
X-WR-TIMEZONE:Europe/Monaco
X-MS-OLK-FORCEINSPECTOROPEN:"TRUE"
BEGIN:VTIMEZONE
TZID:Europe/Monaco
BEGIN:STANDARD
DTSTART:20221030T010000
TZOFFSETTO:+0100
TZOFFSETFROM:+0200
RRULE:FREQ=YEARLY;BYMONTH=11;BYDAY=1SU
END:STANDARD
BEGIN:DAYLIGHT
DTSTART:20220327T010000
TZOFFSETTO:+0200
TZOFFSETFROM:+0100
RRULE:FREQ=YEARLY;BYMONTH=3;BYDAY=2SU
END:DAYLIGHT
END:VTIMEZONE
BEGIN:VEVENT
UID:1626-9ec6ed70d9bab1a49f12fbf6fc20a15c-principocket.com\n
DTSTART:20221121T183000
DTEND:20221121T183000
TRANSP:TRANSPARENT
IMAGE;VALUE=URI;DISPLAY=;FMTTYPE=image/png:https://app.monacoplatform.
 com/uploads/ZK/ZK4CiT23us.jpg
STATUS:CONFIRMED
SUMMARY:Conférence - "Les musées et l'aventure maritime : comment fa
 ire vibrer les collections"
DESCRIPTION:Lundi 21 novembre 2022\, à 18h30\, Théâtre des Variét
 és\n\nL'Association Monégasque pour la Connaissance des Arts a le pl
 aisir de vous présenter les 5 conférences du cycle "Désir d'aventur
 es" - "Les musées et l'aventure maritime : comment faire vibrer les c
 ollections"\, Vincent BOUAT-FERLIER\, Conservateur du Patrimoine\, Dir
 ecteur scientifique du musée national de la Marine.\n\n https://www.p
 rincipocket.com/fr/event/9ec6ed70d9bab1a49f12fbf6fc20a15c/conference-l
 es-musees-et-l-aventure-maritime-comment-faire-vibrer-les-collections
LOCATION:1\, boulevard Albert Ier
URL:https://www.principocket.com/event/9ec6ed70d9bab1a49f12fbf6fc20a15
 c/1626
DTSTAMP:20260419T211520Z
CREATED:20221116T112222Z
LAST-MODIFIED:20221116T112222Z
END:VEVENT
END:VCALENDAR
