BEGIN:VCALENDAR
VERSION:2.0
PRODID:-//Microsoft Corporation//Outlook 16.0 MIMEDIR//FR
CALSCALE:GREGORIAN
METHOD:PUBLISH
X-WR-TIMEZONE:Europe/Monaco
X-MS-OLK-FORCEINSPECTOROPEN:"TRUE"
BEGIN:VTIMEZONE
TZID:Europe/Monaco
BEGIN:STANDARD
DTSTART:20221030T010000
TZOFFSETTO:+0100
TZOFFSETFROM:+0200
RRULE:FREQ=YEARLY;BYMONTH=11;BYDAY=1SU
END:STANDARD
BEGIN:DAYLIGHT
DTSTART:20220327T010000
TZOFFSETTO:+0200
TZOFFSETFROM:+0100
RRULE:FREQ=YEARLY;BYMONTH=3;BYDAY=2SU
END:DAYLIGHT
END:VTIMEZONE
BEGIN:VEVENT
UID:1542-0d332718708a3301804ac25f59afc6a9-principocket.com\n
DTSTART:20221218T180000
DTEND:20221218T180000
TRANSP:TRANSPARENT
IMAGE;VALUE=URI;DISPLAY=;FMTTYPE=image/png:https://app.monacoplatform.
 com/uploads/-p/-pztmF4Hj9.jpg
STATUS:CONFIRMED
SUMMARY:Concert Spirituel - " Noël à Monaco"
DESCRIPTION:Dimanche 18 décembre 2022\, à 18h\, Cathédrale de Monac
 o\n\nSaison 22/23 de l'Orchestre Philarmonique de Monte-Carlo\, Sous L
 a Présidence de S.A.R. La Princesse de Hanovre - "Noël à Monaco" av
 ec Peter Szüts et Pierre Debat (direction)\, les Musiciens de l'Orche
 stre Philarmonique de Monte-Carlo et les Petits Chanteurs de Monaco. A
 u programme : Mozart\, Haendel et chants traditionnels de Noël.\n\n h
 ttps://www.principocket.com/fr/event/0d332718708a3301804ac25f59afc6a9/
 concert-spirituel-noel-a-monaco
LOCATION:4\, rue Colonel Bellando de Castro
URL:https://www.principocket.com/event/0d332718708a3301804ac25f59afc6a
 9/1542
DTSTAMP:20260422T123028Z
CREATED:20221215T093823Z
LAST-MODIFIED:20221215T093823Z
END:VEVENT
END:VCALENDAR
