BEGIN:VCALENDAR
VERSION:2.0
PRODID:-//Microsoft Corporation//Outlook 16.0 MIMEDIR//FR
CALSCALE:GREGORIAN
METHOD:PUBLISH
X-WR-TIMEZONE:Europe/Monaco
X-MS-OLK-FORCEINSPECTOROPEN:"TRUE"
BEGIN:VTIMEZONE
TZID:Europe/Monaco
BEGIN:STANDARD
DTSTART:20221030T010000
TZOFFSETTO:+0100
TZOFFSETFROM:+0200
RRULE:FREQ=YEARLY;BYMONTH=11;BYDAY=1SU
END:STANDARD
BEGIN:DAYLIGHT
DTSTART:20220327T010000
TZOFFSETTO:+0200
TZOFFSETFROM:+0100
RRULE:FREQ=YEARLY;BYMONTH=3;BYDAY=2SU
END:DAYLIGHT
END:VTIMEZONE
BEGIN:VEVENT
UID:1488-fe5a72f184875b07ce4b09fe501c2dd3-principocket.com\n
DTSTART:20221209T000000
DTEND:20221212T235900
TRANSP:TRANSPARENT
IMAGE;VALUE=URI;DISPLAY=;FMTTYPE=image/png:https://app.monacoplatform.
 com/uploads/wg/wgBomGYkbA.jpg
STATUS:CONFIRMED
SUMMARY:Opéra - "Lakmé"
DESCRIPTION:Vendredi 9 décembre\, à 20h et dimanche 11 décembre 202
 2\, à 15h Auditorium Rainier III - Salle Yakov Kreizberg\n\n"Lakmé" 
 de Léo Delibes avec Sabine Devieilhe\, Fleur Barron\, Erminie Blondel
 \, Charlotte Bonnet\, Cyrille Dubois\, Lionel Lhote\, Pierre Doyen\, S
 vetlana Lifar\, le Chœur de l’Opéra de Monte-Carlo et l'Orchestre 
 philharmonique de Monte-Carlo\, sous la direction de Laurent Campellon
 e\, organisé par l'Opéra de Monte-Carlo\n\n https://www.principocket
 .com/fr/event/fe5a72f184875b07ce4b09fe501c2dd3/opera-lakme
LOCATION:Boulevard Louis II
URL:https://www.principocket.com/event/fe5a72f184875b07ce4b09fe501c2dd
 3/1488
DTSTAMP:20260421T080409Z
CREATED:20221116T112223Z
LAST-MODIFIED:20221116T112223Z
X-MICROSOFT-CDO-ALLDAYEVENT:TRUE
END:VEVENT
END:VCALENDAR
