BEGIN:VCALENDAR
VERSION:2.0
PRODID:-//Microsoft Corporation//Outlook 16.0 MIMEDIR//FR
CALSCALE:GREGORIAN
METHOD:PUBLISH
X-WR-TIMEZONE:Europe/Monaco
X-MS-OLK-FORCEINSPECTOROPEN:"TRUE"
BEGIN:VTIMEZONE
TZID:Europe/Monaco
BEGIN:STANDARD
DTSTART:20221030T010000
TZOFFSETTO:+0100
TZOFFSETFROM:+0200
RRULE:FREQ=YEARLY;BYMONTH=11;BYDAY=1SU
END:STANDARD
BEGIN:DAYLIGHT
DTSTART:20220327T010000
TZOFFSETTO:+0200
TZOFFSETFROM:+0100
RRULE:FREQ=YEARLY;BYMONTH=3;BYDAY=2SU
END:DAYLIGHT
END:VTIMEZONE
BEGIN:VEVENT
UID:1464-fe10c8eaab766b937966b1b2f5681e48-principocket.com\n
DTSTART:20220630T000000
DTEND:20220703T235900
TRANSP:TRANSPARENT
IMAGE;VALUE=URI;DISPLAY=;FMTTYPE=image/png:https://app.monacoplatform.
 com/uploads/zW/zWV63VE1er.jpg
STATUS:CONFIRMED
SUMMARY:16ème Jumping International de Monte-Carlo 2022
DESCRIPTION:Du jeudi 30 juin au samedi 2 juillet 2022\, Port de Monaco
 \n\nDu 30 juin au 2 juillet\, tous les regards seront tournés vers le
  Port Hercule qui accueillera la 16e édition du Longines Global Champ
 ions Tour de Monaco. Habituée à recevoir les événements sportifs l
 es plus prestigieux de la planète\, la Principauté verra s’affront
 er\, quelques semaines après les pilotes de Formule 1\, les meilleurs
  cavaliers et chevaux au monde. \n\n https://www.principocket.com/fr
 /event/fe10c8eaab766b937966b1b2f5681e48/16eme-jumping-international-de
 -monte-carlo-2022
LOCATION:Port Hercule\, Monaco
URL:https://www.principocket.com/event/fe10c8eaab766b937966b1b2f5681e4
 8/1464
DTSTAMP:20260422T204733Z
CREATED:20220622T073946Z
LAST-MODIFIED:20220622T073946Z
X-MICROSOFT-CDO-ALLDAYEVENT:TRUE
END:VEVENT
END:VCALENDAR
