BEGIN:VCALENDAR
VERSION:2.0
PRODID:-//Microsoft Corporation//Outlook 16.0 MIMEDIR//FR
CALSCALE:GREGORIAN
METHOD:PUBLISH
X-WR-TIMEZONE:Europe/Monaco
X-MS-OLK-FORCEINSPECTOROPEN:"TRUE"
BEGIN:VTIMEZONE
TZID:Europe/Monaco
BEGIN:STANDARD
DTSTART:20221030T010000
TZOFFSETTO:+0100
TZOFFSETFROM:+0200
RRULE:FREQ=YEARLY;BYMONTH=11;BYDAY=1SU
END:STANDARD
BEGIN:DAYLIGHT
DTSTART:20220327T010000
TZOFFSETTO:+0200
TZOFFSETFROM:+0100
RRULE:FREQ=YEARLY;BYMONTH=3;BYDAY=2SU
END:DAYLIGHT
END:VTIMEZONE
BEGIN:VEVENT
UID:1401-f3bbca1103cef367a602c6796752dc41-principocket.com\n
DTSTART:20220429T190000
DTEND:20220429T190000
TRANSP:TRANSPARENT
IMAGE;VALUE=URI;DISPLAY=;FMTTYPE=image/png:https://app.monacoplatform.
 com/uploads/XT/XTYvJgzmes.jpg
STATUS:CONFIRMED
SUMMARY:Concert
DESCRIPTION:Vendredi 29 avril 2022\, à 19h\, Médiathèque de Monaco 
 - Bibliothèque Louis Notari\n\nConcert de "Batlik"\, scène français
 e\, en direct.\n\n https://www.principocket.com/fr/event/f3bbca1103cef
 367a602c6796752dc41/concert
LOCATION:5 Promenade Honoré II\, Monaco
URL:https://www.principocket.com/event/f3bbca1103cef367a602c6796752dc4
 1/1401
DTSTAMP:20260422T204255Z
CREATED:20220419T092307Z
LAST-MODIFIED:20220419T092307Z
END:VEVENT
END:VCALENDAR
